Workbook

Sheet Istruzioni
A1: ISTRUZIONI PER LA COMPILAZIONE
A3: Il presente file deve essere compilato dalla ETS con la registrazione dei vari costi di svolgimento del servizio svolto e che sono collegati alla fattura o nota di debito trasmessa al Soggetto Attuatore.
A6: Il file è costituito dai seguenti fogli di lavoro:
A7: 1. Dati Generali
A8: 2. Rendicontazione a costi reali (analitica, basata sulla spesa effettivamente sostenuta e pagata, documentata in modo diretto per ciascuna voce di costo)
A9: 3. Rendicontazione a costi semplif (basata su tabelle analitiche di costi unitari)
A10: 4. TS ….. (Timesheet duplicabile n-volte, per ciascun dipendente e per ciascun mese)
A11: 5. Rimborso Spese ACI (duplicabile, da utilizzare escluvimante per servizi domiciliari con uso del messo proprio dei dipoendenti)
A13: In Dati Generali andranno inseriti il Riferimento fattura a cui il file fa riferimento, il Soggetto Attuatore e il CUP del progetto. Nel medesimo foglio saranno automaticamente riportati i dati riassuntivi del rendiconto. Vanno compilate solo le celle sbloccate
A15: In Rendicontazione a costi reali andranno registrate le varie spese effettuate dall’ETS valorizzando i vari campi numerici. Andranno poi allegati in unico file zippato unitamente al presente file tutti i giustificativi di spesa rinominandoli con il numero di riferimento N della spesa registrata al fine di consentire un rapido controllo a campione.
A17: In Rendicontazione a costi semplif andranno registrati i costi semplificati del personale impiegato per l’erogazione dei servizi. Per il valore dell’UCS di ogni operatore si deve fare riferimento alle tabelle standard dei costi unitari riferiti ai costi del personale del Dipartimento per le politiche sociali, del terzo settore e migratorie, aggiornamento giugno 2025, oppure a tabelle analoghe emanate da Enti Territoriali di settore. Il valore delle ore lavorate mensili per ogni operatore dovrà essere determinato dal foglio Timesheet mensile (il foglio è duplicabile e dovrà essere numerato con il numero di riferimento N del foglio Rendicontazione a costi semplif).
A18: =+HYPERLINK("https://pninclusione21-27.lavoro.gov.it/programma/semplificazione-dei-costi", "Tabelle") -> Tabelle
A20: In maniera analoga potranno essere rendicontati i rimborsi chilometrici utilizzando le tabelle ACI
A22: Il TOTALE del foglio "Dati Generali" dovrà coincidere con l'importo della fattura o nota di debito trasmessa al Soggetto Attuatore
A24: Una volta compilato, il file non dovrà essere stampato, ma semplicemente sottoscritto da:
A25: - Legale Rappresentante dell'ETS (costituisce attestazione della veridicità delle spese rendicontate ai sensi dell'art.47 del DPR 445/2000)
A26: - Responsabile del progetto del Soggetto Attuatore (costituisce attestazione della regolare esecuzione delle attività svolte dall'ETS)

Sheet Dati Generali
A1: Riferimento fattura: | B1: n.100 del 20/10/2025
A2: Soggetto Attuatore | B2: Ambito sociale …..
A3: CUP progetto | B3: XXXXXXXXXXXXXXX
A4: CIG | B4: YYYYYYYYYY
A5: Rendicontazione a costi reali: | B5: =+Somme!B1 -> 1033
A6: Rendicontazione a costi semplificati: | B6: =+Somme!B2 -> 461.48
A7: Rimborsi chilometrici: | B7: =+'Rimborso Spese ACI'!J25 -> 11.25
A8: TOTALE: | B8: =SUM(B5:B7) -> 1505.73
A12: La sottoscrizione del presente file da parte del Legale Rappresentante dell'ETS costituisce attestazione della veridicità delle spese rendicontate ai sensi dell'art.47 del DPR 445/2000
A15: La sottoscrizione del presente file da parte del Responsabile del progetto costituisce attestazione della regolare esecuzione delle attività svolte dall'ETS
A20: Il Legale Rappresentante ETS | B20: Il Responsabile del Progetto
A22: sottoscritto digitalmente | B22: sottoscritto digitalmente

Sheet Rendicontazione a costi reali
A1: ='Dati Generali'!B2&" CUP"&" "&'Dati Generali'!B3&" CIG "&'Dati Generali'!B4&" Fattura "&'Dati Generali'!B1& " Importo: "&TEXT(Somme!B1, "#.##0,00") -> Ambito sociale ….. CUP XXXXXXXXXXXXXXX CIG YYYYYYYYYY Fattura n.100 del 20/10/2025 Importo: 1.033,00
A2: Rendicontazione a costi reali ETS
A3: N | B3: Decrizione | C3: N. fattura/scontrino | D3: Data fattura/scontrino | E3: Importo (lordo) | F3: Importo di rilevanza (lordo) | G3: Aliquota IVA | H3: IVA
A4: 1 | B4: Acquisto farmaci per…. | C4: 100/2025 | D4: 45658 | E4: 1000 | F4: =+E4 -> 1000 | G4: 0.1 | H4: =+ROUND(F4-F4/(1+G4),2) -> 90.91
A5: 2 | B5: DPI - Guanti in lattice n.100 | C5: 25/2025 | D5: 45659 | E5: 33 | F5: 33 | G5: 0.22 | H5: =+ROUND(F5-F5/(1+G5),2) -> 5.95
A6: 3 | H6: =+ROUND(F6-F6/(1+G6),2) -> 0
A7: 4 | H7: =+ROUND(F7-F7/(1+G7),2) -> 0
A8: 5 | H8: =+ROUND(F8-F8/(1+G8),2) -> 0
A9: 6 | H9: =+ROUND(F9-F9/(1+G9),2) -> 0
A10: 7 | H10: =+ROUND(F10-F10/(1+G10),2) -> 0
A11: 8 | H11: =+ROUND(F11-F11/(1+G11),2) -> 0
A12: 9 | H12: =+ROUND(F12-F12/(1+G12),2) -> 0
A13: 10 | H13: =+ROUND(F13-F13/(1+G13),2) -> 0
A14: 11 | H14: =+ROUND(F14-F14/(1+G14),2) -> 0
A15: 12 | H15: =+ROUND(F15-F15/(1+G15),2) -> 0
A16: 13 | H16: =+ROUND(F16-F16/(1+G16),2) -> 0
A17: 14 | H17: =+ROUND(F17-F17/(1+G17),2) -> 0
... A103: 100 | H103: =+ROUND(F103-F103/(1+G103),2) -> 0

Sheet Rendicontazione a costi semplif
A1: ='Dati Generali'!B2&" CUP"&" "&'Dati Generali'!B3&" CIG "&'Dati Generali'!B4&" Fattura "&'Dati Generali'!B1& " Importo: "&TEXT(Somme!B2,"#.##0,00") -> Ambito sociale ….. CUP XXXXXXXXXXXXXXX CIG YYYYYYYYYY Fattura n.100 del 20/10/2025 Importo: 461,48
A2: Rendicontazione a costi semplificati personale (Rif. Nota metodologica che riporta le tabelle standard dei costi unitari riferiti ai costi del personale del Dipartimento per le politiche sociali, del terzo settore e migratorie relative all’attuazione del PN Inclusione e lotta alla povertà 2021-2027)
A3: N | B3: Cognome e nome | C3: Codice fiscale | D3: CCNL | E3: Qualifica | F3: Livello | G3: Tabella | H3: Periodo | I3: UCS | J3: CG | K3: Ore erogate | L3: Totale
A4: 1 | B4: Rossi Mario | C4: RSSMRO67A12C342Z | D4: UNEBA CSC 20101 Enti pubblici | E4: OSS | F4: 4S | G4: A2bis | H4: 45748 | I4: 17.58 | J4: FALSE | K4: 26.25 | L4: =+ROUND(K4*I4*IF(J4=TRUE,1.15,1),2) -> 461.48
A5: 2 | J5: FALSE | L5: =+K5*I5 -> 0
A6: 3 | J6: FALSE | L6: =+K6*I6 -> 0
A7: 4 | J7: FALSE | L7: =+K7*I7 -> 0
A8: 5 | J8: FALSE | L8: =+K8*I8 -> 0
A9: 6 | J9: FALSE | L9: =+K9*I9 -> 0
A10: 7 | J10: FALSE | L10: =+K10*I10 -> 0
A11: 8 | J11: FALSE | L11: =+K11*I11 -> 0
A12: 9 | J12: FALSE | L12: =+K12*I12 -> 0
A13: 10 | J13: FALSE | L13: =+K13*I13 -> 0
A14: 11 | J14: FALSE | L14: =+K14*I14 -> 0
A15: 12 | J15: FALSE | L15: =+K15*I15 -> 0
A16: 13 | J16: FALSE | L16: =+K16*I16 -> 0
... A103: 100 | J103: FALSE | L103: =+K103*I103 -> 0

Sheet 1 TS Apr 2025 (duplica)
B1: TIMESHEET MENSILE | H1: Digita la data inizio | I1: 45748
B2: Cognome e nome: | C2: Mario Rossi | F2: Codice fiscale: | G2: RSSMRO67A12C342Z
B4: DATA | C4: ORARIO DI INIZIO AM | D4: ORARIO DI FINE AM | E4: ORARIO DI INIZIO PM | F4: ORARIO DI FINE PM | G4: PAUSE DA DEDURRE | H4: DESCRIZIONE SERVIZIO | I4: ORE TOTALI
B5: =+I1 -> 45748 | C5: 0.33333333 | D5: 0.51041667 | E5: 0.59375 | F5: 0.72916667 | G5: 0.020833333 | I5: =+(Tabella1[[#This Row],[ORARIO DI FINE AM]]-Tabella1[[#This Row],[ORARIO DI INIZIO AM]])+(Tabella1[[#This Row],[ORARIO DI FINE PM]]-Tabella1[[#This Row],[ORARIO DI INIZIO PM]])-Tabella1[[#This Row],[PAUSE DA DEDURRE]] -> 0.29166667
B6: =B5+1 -> 45749 | C6: 0.33333333 | D6: 0.51041667 | E6: 0.59375 | F6: 0.72916667 | G6: 0.020833333 | I6: =+Tabella1[[#This Row],[ORARIO DI FINE AM]]-Tabella1[[#This Row],[ORARIO DI INIZIO AM]]+Tabella1[[#This Row],[ORARIO DI FINE PM]]-Tabella1[[#This Row],[ORARIO DI INIZIO PM]]-Tabella1[[#This Row],[PAUSE DA DEDURRE]] -> 0.29166667
B7: =B6+1 -> 45750 | C7: 0.33333333 | D7: 0.51041667 | E7: 0.59375 | F7: 0.72916667 | G7: 0.020833333 | I7: =+Tabella1[[#This Row],[ORARIO DI FINE AM]]-Tabella1[[#This Row],[ORARIO DI INIZIO AM]]+Tabella1[[#This Row],[ORARIO DI FINE PM]]-Tabella1[[#This Row],[ORARIO DI INIZIO PM]]-Tabella1[[#This Row],[PAUSE DA DEDURRE]] -> 0.29166667
B8: =B7+1 -> 45751 | C8: 0.33333333 | D8: 0.45833333 | E8: 0.59375 | F8: 0.6875 | I8: =+Tabella1[[#This Row],[ORARIO DI FINE AM]]-Tabella1[[#This Row],[ORARIO DI INIZIO AM]]+Tabella1[[#This Row],[ORARIO DI FINE PM]]-Tabella1[[#This Row],[ORARIO DI INIZIO PM]]-Tabella1[[#This Row],[PAUSE DA DEDURRE]] -> 0.21875
B9: =B8+1 -> 45752 | I9: =+Tabella1[[#This Row],[ORARIO DI FINE AM]]-Tabella1[[#This Row],[ORARIO DI INIZIO AM]]+Tabella1[[#This Row],[ORARIO DI FINE PM]]-Tabella1[[#This Row],[ORARIO DI INIZIO PM]]-Tabella1[[#This Row],[PAUSE DA DEDURRE]] -> 0
B10: =B9+1 -> 45753 | I10: =+Tabella1[[#This Row],[ORARIO DI FINE AM]]-Tabella1[[#This Row],[ORARIO DI INIZIO AM]]+Tabella1[[#This Row],[ORARIO DI FINE PM]]-Tabella1[[#This Row],[ORARIO DI INIZIO PM]]-Tabella1[[#This Row],[PAUSE DA DEDURRE]] -> 0
B11: =B10+1 -> 45754 | I11: =+Tabella1[[#This Row],[ORARIO DI FINE AM]]-Tabella1[[#This Row],[ORARIO DI INIZIO AM]]+Tabella1[[#This Row],[ORARIO DI FINE PM]]-Tabella1[[#This Row],[ORARIO DI INIZIO PM]]-Tabella1[[#This Row],[PAUSE DA DEDURRE]] -> 0
B12: =B11+1 -> 45755 | I12: =+Tabella1[[#This Row],[ORARIO DI FINE AM]]-Tabella1[[#This Row],[ORARIO DI INIZIO AM]]+Tabella1[[#This Row],[ORARIO DI FINE PM]]-Tabella1[[#This Row],[ORARIO DI INIZIO PM]]-Tabella1[[#This Row],[PAUSE DA DEDURRE]] -> 0
B13: =B12+1 -> 45756 | I13: =+Tabella1[[#This Row],[ORARIO DI FINE AM]]-Tabella1[[#This Row],[ORARIO DI INIZIO AM]]+Tabella1[[#This Row],[ORARIO DI FINE PM]]-Tabella1[[#This Row],[ORARIO DI INIZIO PM]]-Tabella1[[#This Row],[PAUSE DA DEDURRE]] -> 0
B14: =B13+1 -> 45757 | I14: =+Tabella1[[#This Row],[ORARIO DI FINE AM]]-Tabella1[[#This Row],[ORARIO DI INIZIO AM]]+Tabella1[[#This Row],[ORARIO DI FINE PM]]-Tabella1[[#This Row],[ORARIO DI INIZIO PM]]-Tabella1[[#This Row],[PAUSE DA DEDURRE]] -> 0
B15: =B14+1 -> 45758 | I15: =+Tabella1[[#This Row],[ORARIO DI FINE AM]]-Tabella1[[#This Row],[ORARIO DI INIZIO AM]]+Tabella1[[#This Row],[ORARIO DI FINE PM]]-Tabella1[[#This Row],[ORARIO DI INIZIO PM]]-Tabella1[[#This Row],[PAUSE DA DEDURRE]] -> 0
B16: =B15+1 -> 45759 | I16: =+Tabella1[[#This Row],[ORARIO DI FINE AM]]-Tabella1[[#This Row],[ORARIO DI INIZIO AM]]+Tabella1[[#This Row],[ORARIO DI FINE PM]]-Tabella1[[#This Row],[ORARIO DI INIZIO PM]]-Tabella1[[#This Row],[PAUSE DA DEDURRE]] -> 0
B17: =B16+1 -> 45760 | I17: =+Tabella1[[#This Row],[ORARIO DI FINE AM]]-Tabella1[[#This Row],[ORARIO DI INIZIO AM]]+Tabella1[[#This Row],[ORARIO DI FINE PM]]-Tabella1[[#This Row],[ORARIO DI INIZIO PM]]-Tabella1[[#This Row],[PAUSE DA DEDURRE]] -> 0
B18: =B17+1 -> 45761 | I18: =+Tabella1[[#This Row],[ORARIO DI FINE AM]]-Tabella1[[#This Row],[ORARIO DI INIZIO AM]]+Tabella1[[#This Row],[ORARIO DI FINE PM]]-Tabella1[[#This Row],[ORARIO DI INIZIO PM]]-Tabella1[[#This Row],[PAUSE DA DEDURRE]] -> 0
B19: =B18+1 -> 45762 | I19: =+Tabella1[[#This Row],[ORARIO DI FINE AM]]-Tabella1[[#This Row],[ORARIO DI INIZIO AM]]+Tabella1[[#This Row],[ORARIO DI FINE PM]]-Tabella1[[#This Row],[ORARIO DI INIZIO PM]]-Tabella1[[#This Row],[PAUSE DA DEDURRE]] -> 0
B20: =B19+1 -> 45763 | I20: =+Tabella1[[#This Row],[ORARIO DI FINE AM]]-Tabella1[[#This Row],[ORARIO DI INIZIO AM]]+Tabella1[[#This Row],[ORARIO DI FINE PM]]-Tabella1[[#This Row],[ORARIO DI INIZIO PM]]-Tabella1[[#This Row],[PAUSE DA DEDURRE]] -> 0
... B35: =B34+1 -> 45778 | I35: =+Tabella1[[#This Row],[ORARIO DI FINE AM]]-Tabella1[[#This Row],[ORARIO DI INIZIO AM]]+Tabella1[[#This Row],[ORARIO DI FINE PM]]-Tabella1[[#This Row],[ORARIO DI INIZIO PM]]-Tabella1[[#This Row],[PAUSE DA DEDURRE]] -> 0
B36: ORE TOTALI | I36: =SUBTOTAL(109,I5:I35) -> 1.09375
H38: ORE TOTALI (DECIMALI) | I38: =ROUND(I36*24,2) -> 26.25

Sheet Rimborso Spese ACI
A1: ='Dati Generali'!B2&" CUP"&" "&'Dati Generali'!B3&" CIG "&'Dati Generali'!B4&" Fattura "&'Dati Generali'!B1& " Importo: "&TEXT(J25,"#.##0,00") -> Ambito sociale ….. CUP XXXXXXXXXXXXXXX CIG YYYYYYYYYY Fattura n.100 del 20/10/2025 Importo: 11,25
B3: Tariffa ACI (€/Km): | C3: =+HYPERLINK(D3,"Calcola") -> Calcola | D3: https://costikm.aci.it/home
A6: Data | B6: Data | C6: Dipendente / Collaboratore | D6: Marca Veicolo | E6: Modello Veicolo | F6: Alimentazione | G6: Descrizione / Tratta | H6: Km Percorsi | I6: Tariffa ACI applicata | J6: Totale Rimborso
A7: 1 | B7: 45748 | C7: Mario Rossi | D7: Toyota | E7: Yaris | F7: Benzina | G7: Via Fiume, 23 Magliano de' Marsi AQ - Via Roma, 21 Massa D'Albe AQ | H7: 25 | I7: 0.45 | J7: =+H7*I7 -> 11.25
A8: 2 | H8: 0 | I8: 0.45 | J8: =+H8*I8 -> 0
A9: 3 | H9: 0 | I9: 0.45 | J9: =+H9*I9 -> 0
A10: 4 | H10: 0 | I10: 0.45 | J10: =+H10*I10 -> 0
A11: 5 | H11: 0 | I11: 0.45 | J11: =+H11*I11 -> 0
A12: 6 | H12: 0 | I12: 0.45 | J12: =+H12*I12 -> 0
A13: 7 | H13: 0 | I13: 0.45 | J13: =+H13*I13 -> 0
A14: 8 | H14: 0 | I14: 0.45 | J14: =+H14*I14 -> 0
A15: 9 | H15: 0 | I15: 0.45 | J15: =+H15*I15 -> 0
A16: 10 | H16: 0 | I16: 0.45 | J16: =+H16*I16 -> 0
A17: 11 | H17: 0 | I17: 0.45 | J17: =+H17*I17 -> 0
A18: 12 | H18: 0 | I18: 0.45 | J18: =+H18*I18 -> 0
A19: 13 | H19: 0 | I19: 0.45 | J19: =+H19*I19 -> 0
... A24: 18 | H24: 0 | I24: 0.45 | J24: =+H24*I24 -> 0
G25: TOTALE GENERALE | H25: =SUM(H7:H24) -> 25 | J25: =SUM(J7:J24) -> 11.25

Sheet Dati
A1: Enti Locali
A2: Sanitò
A3: UNEBA CSC 20101 Enti pubblici
A4: UNEBA CSC70706 Terziario

Sheet Somme
A1: Rendicontazione a costi reali (lordo) | B1: =ROUND(SUM('Rendicontazione a costi reali'!F:F),2) -> 1033
A2: Rendicontazione a costi semplificati | B2: =ROUND(SUM('Rendicontazione a costi semplif'!L:L),2) -> 461.48
A3: Totale rendiconto | B3: =SUM(B1:B2) -> 1494.48
A4: IVA | B4: =SUM('Rendicontazione a costi reali'!H:H) -> 96.86
A5: Imponibile | B5: =+B3-B4 -> 1397.62
