Workbook

Sheet INDICE_sintesi
B7: LA STRATEGIA NAZIONALE DELLE AREE INTERNE
B8: Aree SNAI ciclo 2014-2020 | D8: Totale comuni | E8: A - Polo | F8: C - Cintura | G8: D - Intermedio | H8: E - Periferico | I8: F - Ultraperiferico | J8: Totale Popolazione ISTAT 2020 | K8: Totale Superfice in km2
B9: Elenco delle 72 Aree SNAI 2014 - 2020 | D9: ='72 Aree SNAI_14-20'!D77 -> 1060 | E9: ='72 Aree SNAI_14-20'!E77 -> 1 | F9: ='72 Aree SNAI_14-20'!F77 -> 127 | G9: ='72 Aree SNAI_14-20'!G77 -> 333 | H9: ='72 Aree SNAI_14-20'!H77 -> 482 | I9: ='72 Aree SNAI_14-20'!I77 -> 117 | J9: ='72 Aree SNAI_14-20'!J77 -> 1938909 | K9: ='72 Aree SNAI_14-20'!K77 -> 51205.061
B10: DB Comuni delle 72 Aree SNAI
B12: Aree SNAI ciclo 2021 - 2027 | D12: Totale comuni | E12: A - Polo | F12: C - Cintura | G12: D - Intermedio | H12: E - Periferico | I12: F - Ultraperiferico | J12: Totale Popolazione ISTAT 2020 | K12: Totale Superfice in km2
B13: 71 Aree SNAI 2014 - 2020 ** | D13: =D21+D23 -> 1185 | E13: =E21+E23 -> 1 | F13: =F21+F23 -> 156 | G13: =G21+G23 -> 383 | H13: =H21+H23 -> 526 | I13: =I21+I23 -> 119 | J13: =J21+J23 -> 2358151 | K13: =K21+K23 -> 57003.739
B14: 56 Aree SNAI 2021 - 2027 | D14: =D19 -> 764 | F14: =F19 -> 55 | G14: =G19 -> 236 | H14: =H19 -> 369 | I14: =I19 -> 104 | J14: =J19 -> 2056139 | K14: =K19 -> 38442
B15: Isole Minori | D15: =D25 -> 35 | F15: =F25 -> 3 | G15: =G25 -> 1 | H15: =H25 -> 13 | I15: =I25 -> 18 | J15: =J25 -> 213093 | K15: =K25 -> 970.5207
B17: DETTAGLIO NUOVE AREE 2021-2027 | D17: Totale comuni | E17: A - Polo | F17: C - Cintura | G17: D - Intermedio | H17: E - PeriEerico | I17: E - Ultraperiferico | J17: Totale Popolazione ISTAT 2020 | K17: Totale Superfice in km2
B19: Elenco delle 56 Aree SNAI 2021-2027 | D19: ='56 Aree SNAI_21-27'!E61 -> 764 | F19: ='56 Aree SNAI_21-27'!H61 -> 55 | G19: ='56 Aree SNAI_21-27'!I61 -> 236 | H19: ='56 Aree SNAI_21-27'!J61 -> 369 | I19: ='56 Aree SNAI_21-27'!K61 -> 104 | J19: ='56 Aree SNAI_21-27'!F61 -> 2056139 | K19: ='56 Aree SNAI_21-27'!G61 -> 38442
B20: DB Comuni dell 56 Aree SNAI 2021-2027
B21: Elenco delle 30 Aree SNAI 2021-2027 (riperimetrate) | D21: ='30 Aree riperimetrate'!$F$35 -> 556 | E21: ='30 Aree riperimetrate'!I35 -> 1 | F21: ='30 Aree riperimetrate'!J35 -> 77 | G21: ='30 Aree riperimetrate'!K35 -> 162 | H21: ='30 Aree riperimetrate'!L35 -> 253 | I21: ='30 Aree riperimetrate'!M35 -> 63 | J21: ='30 Aree riperimetrate'!$G$35 -> 1324220 | K21: ='30 Aree riperimetrate'!$H$35 -> 29247.95
B22: DB Comuni delle 30 Aree SNAI 2021-2027 (riperimetrate)
B23: Elenco delle 41 Aree SNAI 2014-2020 (confermate) * | D23: ='41 Aree SNAI_14-20'!D46 -> 629 | F23: ='41 Aree SNAI_14-20'!G46 -> 79 | G23: ='41 Aree SNAI_14-20'!H46 -> 221 | H23: ='41 Aree SNAI_14-20'!I46 -> 273 | I23: ='41 Aree SNAI_14-20'!J46 -> 56 | J23: ='41 Aree SNAI_14-20'!E46 -> 1033931 | K23: ='41 Aree SNAI_14-20'!F46 -> 27755.789
B24: DB Comuni delle 41 Aree SNAI 2014-2020 (confermate)
B25: Elenco Comuni Isole Minori | D25: ='Isole Aggregato'!L39 -> 35 | F25: ='Isole Aggregato'!M39 -> 3 | G25: ='Isole Aggregato'!N39 -> 1 | H25: ='Isole Aggregato'!O39 -> 13 | I25: ='Isole Aggregato'!P39 -> 18 | J25: ='Isole Aggregato'!J39 -> 213093 | K25: ='Isole Aggregato'!K39 -> 970.5207
B27: * Nelle aree SNAI 2014-2020 non è stata confermata 1 area della precedente programmazione della Regione Lombardia (Alta Valtellina)
B28: Totale comuni in aree SNAI | D28: =SUM(D19+D21+D23+D25) -> 1984 | E28: =SUM(E19+E21+E23+E25) -> 1 | F28: =SUM(F19+F21+F23+F25) -> 214 | G28: =SUM(G19+G21+G23+G25) -> 620 | H28: =SUM(H19+H21+H23+H25) -> 908 | I28: =SUM(I19+I21+I23+I25) -> 241 | J28: =SUM(J19+J21+J23+J25) -> 4627383 | K28: =SUM(K19+K21+K23+K25) -> 96416.26
B32: Aree SNAI ciclo 2021 - 2027 | D32: Totale comuni | E32: % comuni rispetto al dato nazionale | G32: Totale Popolazione | H32: % popolazione rispetto al dato nazionale | J32: Totale Superfice in km2 | K32: % superfice rispetto al dato nazionale
B33: 71 Aree SNAI 2014 - 2020 ** | D33: =+D13 -> 1185 | E33: =D33/D36 -> 0.59727823 | G33: =+J13 -> 2358151 | H33: =G33/G36 -> 0.50960791 | J33: =+K13 -> 57003.739 | K33: =J33/J36 -> 0.59122537
B34: 56 Aree SNAI 2021 - 2027 | D34: =+D14 -> 764 | E34: =D34/D36 -> 0.38508065 | G34: =+J14 -> 2056139 | H34: =G34/G36 -> 0.44434165 | J34: =+K14 -> 38442 | K34: =J34/J36 -> 0.39870868
B35: Isole Minori | D35: =+D15 -> 35 | E35: =D35/D36 -> 0.017641129 | G35: =+J15 -> 213093 | H35: =G35/G36 -> 0.046050435 | J35: =+K15 -> 970.5207 | K35: =J35/J36 -> 0.010065944
B36: Riferimenti Nazionali*** | D36: =SUM(D33:D35) -> 1984 | E36: =D28/D36 -> 1 | G36: =SUM(G33:G35) -> 4627383 | H36: =J28/G36 -> 1 | J36: =SUM(J33:J35) -> 96416.26 | K36: =K28/J36 -> 1
B37: ** Totale delle aree SNAI confermate e riperimetrate
B38: ***Fonte: ISTAT, 2020

Sheet INDICE_con Regioni 
B7: LA STRATEGIA NAZIONALE DELLE AREE INTERNE
B9: INDICE DEL DOCUMENTO | D9: Totale comuni | E9: A - Polo | F9: C - Cintura | G9: D - Intermedio | H9: E - PeriEerico | I9: E - Ultraperiferico | J9: Totale Popolazione ISTAT 2020 | K9: Totale Superfice in km2
B11: Elenco delle 56 Aree SNAI 2021-2027 | D11: ='56 Aree SNAI_21-27'!E61 -> 764 | F11: ='56 Aree SNAI_21-27'!H61 -> 55 | G11: ='56 Aree SNAI_21-27'!I61 -> 236 | H11: ='56 Aree SNAI_21-27'!J61 -> 369 | I11: ='56 Aree SNAI_21-27'!K61 -> 104 | J11: ='56 Aree SNAI_21-27'!F61 -> 2056139 | K11: ='56 Aree SNAI_21-27'!G61 -> 38442
B12: Abruzzo | D12: ='56 Aree SNAI_21-27'!E5+'56 Aree SNAI_21-27'!E6 -> 23 | F12: ='56 Aree SNAI_21-27'!H5+'56 Aree SNAI_21-27'!H6 -> 4 | G12: ='56 Aree SNAI_21-27'!I5+'56 Aree SNAI_21-27'!I6 -> 9 | H12: ='56 Aree SNAI_21-27'!J5+'56 Aree SNAI_21-27'!J6 -> 4 | I12: ='56 Aree SNAI_21-27'!K5+'56 Aree SNAI_21-27'!K6 -> 6 | J12: ='56 Aree SNAI_21-27'!F5+'56 Aree SNAI_21-27'!F6 -> 30811 | K12: ='56 Aree SNAI_21-27'!G5+'56 Aree SNAI_21-27'!G6 -> 1075.84
B13: Basilicata | D13: ='56 Aree SNAI_21-27'!E7+'56 Aree SNAI_21-27'!E8+'56 Aree SNAI_21-27'!E9 -> 24 | F13: ='56 Aree SNAI_21-27'!H7+'56 Aree SNAI_21-27'!H8+'56 Aree SNAI_21-27'!H9 -> 0 | G13: ='56 Aree SNAI_21-27'!I7+'56 Aree SNAI_21-27'!I8+'56 Aree SNAI_21-27'!I9 -> 7 | H13: ='56 Aree SNAI_21-27'!J7+'56 Aree SNAI_21-27'!J8+'56 Aree SNAI_21-27'!J9 -> 11 | I13: ='56 Aree SNAI_21-27'!K7+'56 Aree SNAI_21-27'!K8+'56 Aree SNAI_21-27'!K9 -> 6 | J13: ='56 Aree SNAI_21-27'!F7+'56 Aree SNAI_21-27'!F8+'56 Aree SNAI_21-27'!F9 -> 91848 | K13: ='56 Aree SNAI_21-27'!G7+'56 Aree SNAI_21-27'!G8+'56 Aree SNAI_21-27'!G9 -> 1852.75
B14: Calabria | D14: ='56 Aree SNAI_21-27'!E10+'56 Aree SNAI_21-27'!E11+'56 Aree SNAI_21-27'!E12 -> 49 | F14: ='56 Aree SNAI_21-27'!H10+'56 Aree SNAI_21-27'!H11+'56 Aree SNAI_21-27'!H12 -> 0 | G14: ='56 Aree SNAI_21-27'!I10+'56 Aree SNAI_21-27'!I11+'56 Aree SNAI_21-27'!I12 -> 7 | H14: ='56 Aree SNAI_21-27'!J10+'56 Aree SNAI_21-27'!J11+'56 Aree SNAI_21-27'!J12 -> 34 | I14: ='56 Aree SNAI_21-27'!K10+'56 Aree SNAI_21-27'!K11+'56 Aree SNAI_21-27'!K12 -> 8 | J14: ='56 Aree SNAI_21-27'!F10+'56 Aree SNAI_21-27'!F11+'56 Aree SNAI_21-27'!F12 -> 120794 | K14: ='56 Aree SNAI_21-27'!G10+'56 Aree SNAI_21-27'!G11+'56 Aree SNAI_21-27'!G12 -> 2122.34
B15: Campania | D15: ='56 Aree SNAI_21-27'!E13+'56 Aree SNAI_21-27'!E14+'56 Aree SNAI_21-27'!E15 -> 48 | F15: ='56 Aree SNAI_21-27'!H13+'56 Aree SNAI_21-27'!H14+'56 Aree SNAI_21-27'!H15 -> 5 | G15: ='56 Aree SNAI_21-27'!I13+'56 Aree SNAI_21-27'!I14+'56 Aree SNAI_21-27'!I15 -> 16 | H15: ='56 Aree SNAI_21-27'!J13+'56 Aree SNAI_21-27'!J14+'56 Aree SNAI_21-27'!J15 -> 27 | I15: ='56 Aree SNAI_21-27'!K13+'56 Aree SNAI_21-27'!K14+'56 Aree SNAI_21-27'!K15 -> 0 | J15: ='56 Aree SNAI_21-27'!F13+'56 Aree SNAI_21-27'!F14+'56 Aree SNAI_21-27'!F15 -> 119224 | K15: ='56 Aree SNAI_21-27'!G13+'56 Aree SNAI_21-27'!G14+'56 Aree SNAI_21-27'!G15 -> 1839.22
B16: Emilia-Romagna | D16: ='56 Aree SNAI_21-27'!E16+'56 Aree SNAI_21-27'!E17+'56 Aree SNAI_21-27'!E18+'56 Aree SNAI_21-27'!E19+'56 Aree SNAI_21-27'!E20 -> 60 | F16: ='56 Aree SNAI_21-27'!H16+'56 Aree SNAI_21-27'!H17+'56 Aree SNAI_21-27'!H18+'56 Aree SNAI_21-27'!H19+'56 Aree SNAI_21-27'!H20 -> 0 | G16: ='56 Aree SNAI_21-27'!I16+'56 Aree SNAI_21-27'!I17+'56 Aree SNAI_21-27'!I18+'56 Aree SNAI_21-27'!I19+'56 Aree SNAI_21-27'!I20 -> 13 | H16: ='56 Aree SNAI_21-27'!J16+'56 Aree SNAI_21-27'!J17+'56 Aree SNAI_21-27'!J18+'56 Aree SNAI_21-27'!J19+'56 Aree SNAI_21-27'!J20 -> 31 | I16: ='56 Aree SNAI_21-27'!K16+'56 Aree SNAI_21-27'!K17+'56 Aree SNAI_21-27'!K18+'56 Aree SNAI_21-27'!K19+'56 Aree SNAI_21-27'!K20 -> 16 | J16: ='56 Aree SNAI_21-27'!F16+'56 Aree SNAI_21-27'!F17+'56 Aree SNAI_21-27'!F18+'56 Aree SNAI_21-27'!F19+'56 Aree SNAI_21-27'!F20 -> 198836 | K16: ='56 Aree SNAI_21-27'!G16+'56 Aree SNAI_21-27'!G17+'56 Aree SNAI_21-27'!G18+'56 Aree SNAI_21-27'!G19+'56 Aree SNAI_21-27'!G20 -> 4590.26
B17: Friuli-Venezia Giulia | D17: ='56 Aree SNAI_21-27'!E21 -> 16 | F17: ='56 Aree SNAI_21-27'!H21 -> 3 | G17: ='56 Aree SNAI_21-27'!I21 -> 9 | H17: ='56 Aree SNAI_21-27'!J21 -> 4 | I17: ='56 Aree SNAI_21-27'!K21 -> 0 | J17: ='56 Aree SNAI_21-27'!F21 -> 27237 | K17: ='56 Aree SNAI_21-27'!G21 -> 513.91
B18: Lazio | D18: ='56 Aree SNAI_21-27'!E22+'56 Aree SNAI_21-27'!E23+'56 Aree SNAI_21-27'!E24 -> 43 | F18: ='56 Aree SNAI_21-27'!H22+'56 Aree SNAI_21-27'!H23+'56 Aree SNAI_21-27'!H24 -> 7 | G18: ='56 Aree SNAI_21-27'!I22+'56 Aree SNAI_21-27'!I23+'56 Aree SNAI_21-27'!I24 -> 28 | H18: ='56 Aree SNAI_21-27'!J22+'56 Aree SNAI_21-27'!J23+'56 Aree SNAI_21-27'!J24 -> 8 | I18: ='56 Aree SNAI_21-27'!K22+'56 Aree SNAI_21-27'!K23+'56 Aree SNAI_21-27'!K24 -> 0 | J18: ='56 Aree SNAI_21-27'!F22+'56 Aree SNAI_21-27'!F23+'56 Aree SNAI_21-27'!F24 -> 174843 | K18: ='56 Aree SNAI_21-27'!G22+'56 Aree SNAI_21-27'!G23+'56 Aree SNAI_21-27'!G24 -> 1438.61
B19: Liguria | D19: ='56 Aree SNAI_21-27'!E25+'56 Aree SNAI_21-27'!E26+'56 Aree SNAI_21-27'!E27+'56 Aree SNAI_21-27'!E28 -> 52 | F19: ='56 Aree SNAI_21-27'!H25+'56 Aree SNAI_21-27'!H26+'56 Aree SNAI_21-27'!H27+'56 Aree SNAI_21-27'!H28 -> 7 | G19: ='56 Aree SNAI_21-27'!I25+'56 Aree SNAI_21-27'!I26+'56 Aree SNAI_21-27'!I27+'56 Aree SNAI_21-27'!I28 -> 31 | H19: ='56 Aree SNAI_21-27'!J25+'56 Aree SNAI_21-27'!J26+'56 Aree SNAI_21-27'!J27+'56 Aree SNAI_21-27'!J28 -> 14 | I19: ='56 Aree SNAI_21-27'!K25+'56 Aree SNAI_21-27'!K26+'56 Aree SNAI_21-27'!K27+'56 Aree SNAI_21-27'!K28 -> 0 | J19: ='56 Aree SNAI_21-27'!F25+'56 Aree SNAI_21-27'!F26+'56 Aree SNAI_21-27'!F27+'56 Aree SNAI_21-27'!F28 -> 64223 | K19: ='56 Aree SNAI_21-27'!G25+'56 Aree SNAI_21-27'!G26+'56 Aree SNAI_21-27'!G27+'56 Aree SNAI_21-27'!G28 -> 1197.06
B20: Lombardia | D20: ='56 Aree SNAI_21-27'!E29+'56 Aree SNAI_21-27'!E30+'56 Aree SNAI_21-27'!E31 -> 83 | F20: ='56 Aree SNAI_21-27'!H29+'56 Aree SNAI_21-27'!H30+'56 Aree SNAI_21-27'!H31 -> 3 | G20: ='56 Aree SNAI_21-27'!I29+'56 Aree SNAI_21-27'!I30+'56 Aree SNAI_21-27'!I31 -> 15 | H20: ='56 Aree SNAI_21-27'!J29+'56 Aree SNAI_21-27'!J30+'56 Aree SNAI_21-27'!J31 -> 45 | I20: ='56 Aree SNAI_21-27'!K29+'56 Aree SNAI_21-27'!K30+'56 Aree SNAI_21-27'!K31 -> 20 | J20: ='56 Aree SNAI_21-27'!F29+'56 Aree SNAI_21-27'!F30+'56 Aree SNAI_21-27'!F31 -> 193124 | K20: ='56 Aree SNAI_21-27'!G29+'56 Aree SNAI_21-27'!G30+'56 Aree SNAI_21-27'!G31 -> 1659.27
B21: Marche | D21: ='56 Aree SNAI_21-27'!E32+'56 Aree SNAI_21-27'!E33+'56 Aree SNAI_21-27'!E34 -> 36 | F21: ='56 Aree SNAI_21-27'!H32+'56 Aree SNAI_21-27'!H33+'56 Aree SNAI_21-27'!H34 -> 1 | G21: ='56 Aree SNAI_21-27'!I32+'56 Aree SNAI_21-27'!I33+'56 Aree SNAI_21-27'!I34 -> 10 | H21: ='56 Aree SNAI_21-27'!J32+'56 Aree SNAI_21-27'!J33+'56 Aree SNAI_21-27'!J34 -> 24 | I21: ='56 Aree SNAI_21-27'!K32+'56 Aree SNAI_21-27'!K33+'56 Aree SNAI_21-27'!K34 -> 1 | J21: ='56 Aree SNAI_21-27'!F32+'56 Aree SNAI_21-27'!F33+'56 Aree SNAI_21-27'!F34 -> 89983 | K21: ='56 Aree SNAI_21-27'!G32+'56 Aree SNAI_21-27'!G33+'56 Aree SNAI_21-27'!G34 -> 1676.81
B22: Molise | D22: ='56 Aree SNAI_21-27'!E35+'56 Aree SNAI_21-27'!E36 -> 36 | F22: ='56 Aree SNAI_21-27'!H35+'56 Aree SNAI_21-27'!H36 -> 0 | G22: ='56 Aree SNAI_21-27'!I35+'56 Aree SNAI_21-27'!I36 -> 11 | H22: ='56 Aree SNAI_21-27'!J35+'56 Aree SNAI_21-27'!J36 -> 25 | I22: ='56 Aree SNAI_21-27'!K35+'56 Aree SNAI_21-27'!K36 -> 0 | J22: ='56 Aree SNAI_21-27'!F35+'56 Aree SNAI_21-27'!F36 -> 74500 | K22: ='56 Aree SNAI_21-27'!G35+'56 Aree SNAI_21-27'!G36 -> 1240.24
B23: Piemonte | D23: ='56 Aree SNAI_21-27'!E37+'56 Aree SNAI_21-27'!E38 -> 65 | F23: ='56 Aree SNAI_21-27'!H37+'56 Aree SNAI_21-27'!H38 -> 13 | G23: ='56 Aree SNAI_21-27'!I37+'56 Aree SNAI_21-27'!I38 -> 22 | H23: ='56 Aree SNAI_21-27'!J37+'56 Aree SNAI_21-27'!J38 -> 16 | I23: ='56 Aree SNAI_21-27'!K37+'56 Aree SNAI_21-27'!K38 -> 14 | J23: ='56 Aree SNAI_21-27'!F37+'56 Aree SNAI_21-27'!F38 -> 63495 | K23: ='56 Aree SNAI_21-27'!G37+'56 Aree SNAI_21-27'!G38 -> 1504.95
B24: Puglia | D24: ='56 Aree SNAI_21-27'!E39 -> 5 | F24: ='56 Aree SNAI_21-27'!H39 -> 0 | G24: ='56 Aree SNAI_21-27'!I39 -> 0 | H24: ='56 Aree SNAI_21-27'!J39 -> 5 | I24: ='56 Aree SNAI_21-27'!K39 -> 0 | J24: ='56 Aree SNAI_21-27'!F39 -> 61340 | K24: ='56 Aree SNAI_21-27'!G39 -> 375.14
B25: Sardegna | D25: ='56 Aree SNAI_21-27'!E40+'56 Aree SNAI_21-27'!E41 -> 15 | F25: ='56 Aree SNAI_21-27'!H40+'56 Aree SNAI_21-27'!H41 -> 0 | G25: ='56 Aree SNAI_21-27'!I40+'56 Aree SNAI_21-27'!I41 -> 0 | H25: ='56 Aree SNAI_21-27'!J40+'56 Aree SNAI_21-27'!J41 -> 11 | I25: ='56 Aree SNAI_21-27'!K40+'56 Aree SNAI_21-27'!K41 -> 4 | J25: ='56 Aree SNAI_21-27'!F40+'56 Aree SNAI_21-27'!F41 -> 28443 | K25: ='56 Aree SNAI_21-27'!G40+'56 Aree SNAI_21-27'!G41 -> 838.23
B26: Sicilia | D26: ='56 Aree SNAI_21-27'!E42+'56 Aree SNAI_21-27'!E43+'56 Aree SNAI_21-27'!E44+'56 Aree SNAI_21-27'!E45+'56 Aree SNAI_21-27'!E46+'56 Aree SNAI_21-27'!E47 -> 75 | F26: ='56 Aree SNAI_21-27'!H42+'56 Aree SNAI_21-27'!H43+'56 Aree SNAI_21-27'!H44+'56 Aree SNAI_21-27'!H45+'56 Aree SNAI_21-27'!H46+'56 Aree SNAI_21-27'!H47 -> 0 | G26: ='56 Aree SNAI_21-27'!I42+'56 Aree SNAI_21-27'!I43+'56 Aree SNAI_21-27'!I44+'56 Aree SNAI_21-27'!I45+'56 Aree SNAI_21-27'!I46+'56 Aree SNAI_21-27'!I47 -> 16 | H26: ='56 Aree SNAI_21-27'!J42+'56 Aree SNAI_21-27'!J43+'56 Aree SNAI_21-27'!J44+'56 Aree SNAI_21-27'!J45+'56 Aree SNAI_21-27'!J46+'56 Aree SNAI_21-27'!J47 -> 39 | I26: ='56 Aree SNAI_21-27'!K42+'56 Aree SNAI_21-27'!K43+'56 Aree SNAI_21-27'!K44+'56 Aree SNAI_21-27'!K45+'56 Aree SNAI_21-27'!K46+'56 Aree SNAI_21-27'!K47 -> 20 | J26: ='56 Aree SNAI_21-27'!F42+'56 Aree SNAI_21-27'!F43+'56 Aree SNAI_21-27'!F44+'56 Aree SNAI_21-27'!F45+'56 Aree SNAI_21-27'!F46+'56 Aree SNAI_21-27'!F47 -> 309909 | K26: ='56 Aree SNAI_21-27'!G42+'56 Aree SNAI_21-27'!G43+'56 Aree SNAI_21-27'!G44+'56 Aree SNAI_21-27'!G45+'56 Aree SNAI_21-27'!G46+'56 Aree SNAI_21-27'!G47 -> 5166.14
B27: Toscana | D27: ='56 Aree SNAI_21-27'!E48+'56 Aree SNAI_21-27'!E49+'56 Aree SNAI_21-27'!E50 -> 48 | F27: ='56 Aree SNAI_21-27'!H48+'56 Aree SNAI_21-27'!H49+'56 Aree SNAI_21-27'!H50 -> 0 | G27: ='56 Aree SNAI_21-27'!I48+'56 Aree SNAI_21-27'!I49+'56 Aree SNAI_21-27'!I50 -> 16 | H27: ='56 Aree SNAI_21-27'!J48+'56 Aree SNAI_21-27'!J49+'56 Aree SNAI_21-27'!J50 -> 31 | I27: ='56 Aree SNAI_21-27'!K48+'56 Aree SNAI_21-27'!K49+'56 Aree SNAI_21-27'!K50 -> 1 | J27: ='56 Aree SNAI_21-27'!F48+'56 Aree SNAI_21-27'!F49+'56 Aree SNAI_21-27'!F50 -> 183676 | K27: ='56 Aree SNAI_21-27'!G48+'56 Aree SNAI_21-27'!G49+'56 Aree SNAI_21-27'!G50 -> 6060.15
B28: P.A. Bolzano/Bozen | D28: ='56 Aree SNAI_21-27'!E51+'56 Aree SNAI_21-27'!E52+'56 Aree SNAI_21-27'!E53 -> 20 | F28: ='56 Aree SNAI_21-27'!H51+'56 Aree SNAI_21-27'!H52+'56 Aree SNAI_21-27'!H53 -> 0 | G28: ='56 Aree SNAI_21-27'!I51+'56 Aree SNAI_21-27'!I52+'56 Aree SNAI_21-27'!I53 -> 4 | H28: ='56 Aree SNAI_21-27'!J51+'56 Aree SNAI_21-27'!J52+'56 Aree SNAI_21-27'!J53 -> 8 | I28: ='56 Aree SNAI_21-27'!K51+'56 Aree SNAI_21-27'!K52+'56 Aree SNAI_21-27'!K53 -> 8 | J28: ='56 Aree SNAI_21-27'!F51+'56 Aree SNAI_21-27'!F52+'56 Aree SNAI_21-27'!F53 -> 49967 | K28: ='56 Aree SNAI_21-27'!G51+'56 Aree SNAI_21-27'!G52+'56 Aree SNAI_21-27'!G53 -> 1652.23
B29: P.A. Trento | D29: ='56 Aree SNAI_21-27'!E54+'56 Aree SNAI_21-27'!E55 -> 18 | F29: ='56 Aree SNAI_21-27'!H54+'56 Aree SNAI_21-27'!H55 -> 0 | G29: ='56 Aree SNAI_21-27'!I54+'56 Aree SNAI_21-27'!I55 -> 3 | H29: ='56 Aree SNAI_21-27'!J54+'56 Aree SNAI_21-27'!J55 -> 15 | I29: ='56 Aree SNAI_21-27'!K54+'56 Aree SNAI_21-27'!K55 -> 0 | J29: ='56 Aree SNAI_21-27'!F54+'56 Aree SNAI_21-27'!F55 -> 24039 | K29: ='56 Aree SNAI_21-27'!G54+'56 Aree SNAI_21-27'!G55 -> 740.68
B30: Umbria | D30: ='56 Aree SNAI_21-27'!E56+'56 Aree SNAI_21-27'!E57 -> 16 | F30: ='56 Aree SNAI_21-27'!H56+'56 Aree SNAI_21-27'!H57 -> 5 | G30: ='56 Aree SNAI_21-27'!I56+'56 Aree SNAI_21-27'!I57 -> 9 | H30: ='56 Aree SNAI_21-27'!J56+'56 Aree SNAI_21-27'!J57 -> 2 | I30: ='56 Aree SNAI_21-27'!K56+'56 Aree SNAI_21-27'!K57 -> 0 | J30: ='56 Aree SNAI_21-27'!F56+'56 Aree SNAI_21-27'!F57 -> 95595 | K30: ='56 Aree SNAI_21-27'!G56+'56 Aree SNAI_21-27'!G57 -> 1328.66
B31: Valle d'Aosta/Vallée d'Aoste | D31: ='56 Aree SNAI_21-27'!E58 -> 11 | F31: ='56 Aree SNAI_21-27'!H58 -> 4 | G31: ='56 Aree SNAI_21-27'!I58 -> 5 | H31: ='56 Aree SNAI_21-27'!J58 -> 2 | I31: ='56 Aree SNAI_21-27'!K58 -> 0 | J31: ='56 Aree SNAI_21-27'!F58 -> 15808 | K31: ='56 Aree SNAI_21-27'!G58 -> 325.18
B32: Veneto | D32: ='56 Aree SNAI_21-27'!E59+'56 Aree SNAI_21-27'!E60 -> 21 | F32: ='56 Aree SNAI_21-27'!H59+'56 Aree SNAI_21-27'!H60 -> 3 | G32: ='56 Aree SNAI_21-27'!I59+'56 Aree SNAI_21-27'!I60 -> 5 | H32: ='56 Aree SNAI_21-27'!J59+'56 Aree SNAI_21-27'!J60 -> 13 | I32: ='56 Aree SNAI_21-27'!K59+'56 Aree SNAI_21-27'!K60 -> 0 | J32: ='56 Aree SNAI_21-27'!F59+'56 Aree SNAI_21-27'!F60 -> 38444 | K32: ='56 Aree SNAI_21-27'!G59+'56 Aree SNAI_21-27'!G60 -> 1244.33
B33: DB Comuni dell 56 Aree SNAI 2021-2027
B34: Elenco delle 30 Aree SNAI 2021-2027 (riperimetrate) | D34: ='30 Aree riperimetrate'!$F$35 -> 556 | E34: ='30 Aree riperimetrate'!I35 -> 1 | F34: ='30 Aree riperimetrate'!J35 -> 77 | G34: ='30 Aree riperimetrate'!K35 -> 162 | H34: ='30 Aree riperimetrate'!L35 -> 253 | I34: ='30 Aree riperimetrate'!M35 -> 63 | J34: ='30 Aree riperimetrate'!$G$35 -> 1324220 | K34: ='30 Aree riperimetrate'!$H$35 -> 29247.95
B35: Abruzzo | D35: ='30 Aree riperimetrate'!F5+'30 Aree riperimetrate'!F6+'30 Aree riperimetrate'!F7+'30 Aree riperimetrate'!F8+'30 Aree riperimetrate'!F9 -> 116 | F35: ='30 Aree riperimetrate'!J5+'30 Aree riperimetrate'!J6+'30 Aree riperimetrate'!J7+'30 Aree riperimetrate'!J8+'30 Aree riperimetrate'!J9 -> 26 | G35: ='30 Aree riperimetrate'!K5+'30 Aree riperimetrate'!K6+'30 Aree riperimetrate'!K7+'30 Aree riperimetrate'!K8+'30 Aree riperimetrate'!K9 -> 32 | H35: ='30 Aree riperimetrate'!L5+'30 Aree riperimetrate'!L6+'30 Aree riperimetrate'!L7+'30 Aree riperimetrate'!L8+'30 Aree riperimetrate'!L9 -> 40 | I35: ='30 Aree riperimetrate'!M5+'30 Aree riperimetrate'!M6+'30 Aree riperimetrate'!M7+'30 Aree riperimetrate'!M8+'30 Aree riperimetrate'!M9 -> 18 | J35: ='30 Aree riperimetrate'!G5+'30 Aree riperimetrate'!G6+'30 Aree riperimetrate'!G7+'30 Aree riperimetrate'!G8+'30 Aree riperimetrate'!G9 -> 120729 | K35: ='30 Aree riperimetrate'!H5+'30 Aree riperimetrate'!H6+'30 Aree riperimetrate'!H7+'30 Aree riperimetrate'!H8+'30 Aree riperimetrate'!H9 -> 3827.62
B36: Basilicata | D36: ='30 Aree riperimetrate'!F10+'30 Aree riperimetrate'!F11+'30 Aree riperimetrate'!F12 -> 40 | F36: ='30 Aree riperimetrate'!J10+'30 Aree riperimetrate'!J11+'30 Aree riperimetrate'!J12 -> 2 | G36: ='30 Aree riperimetrate'!K10+'30 Aree riperimetrate'!K11+'30 Aree riperimetrate'!K12 -> 5 | H36: ='30 Aree riperimetrate'!L10+'30 Aree riperimetrate'!L11+'30 Aree riperimetrate'!L12 -> 12 | I36: ='30 Aree riperimetrate'!M10+'30 Aree riperimetrate'!M11+'30 Aree riperimetrate'!M12 -> 21 | J36: ='30 Aree riperimetrate'!G10+'30 Aree riperimetrate'!G11+'30 Aree riperimetrate'!G12 -> 84274 | K36: ='30 Aree riperimetrate'!H10+'30 Aree riperimetrate'!H11+'30 Aree riperimetrate'!H12 -> 2479.85
B37: Calabria | D37: ='30 Aree riperimetrate'!F13 -> 16 | G37: ='30 Aree riperimetrate'!K13 -> 3 | H37: ='30 Aree riperimetrate'!L13 -> 13 | J37: ='30 Aree riperimetrate'!G13 -> 33632 | K37: ='30 Aree riperimetrate'!H13 -> 513.22
B38: Campania
B39: Emilia-Romagna | D39: ='30 Aree riperimetrate'!F14+'30 Aree riperimetrate'!F15+'30 Aree riperimetrate'!F16+'30 Aree riperimetrate'!F17 -> 48 | F39: ='30 Aree riperimetrate'!J14+'30 Aree riperimetrate'!J15+'30 Aree riperimetrate'!J16+'30 Aree riperimetrate'!J17 -> 2 | G39: ='30 Aree riperimetrate'!K14+'30 Aree riperimetrate'!K15+'30 Aree riperimetrate'!K16+'30 Aree riperimetrate'!K17 -> 14 | H39: ='30 Aree riperimetrate'!L14+'30 Aree riperimetrate'!L15+'30 Aree riperimetrate'!L16+'30 Aree riperimetrate'!L17 -> 30 | I39: ='30 Aree riperimetrate'!M14+'30 Aree riperimetrate'!M15+'30 Aree riperimetrate'!M16+'30 Aree riperimetrate'!M17 -> 2 | J39: ='30 Aree riperimetrate'!G14+'30 Aree riperimetrate'!G15+'30 Aree riperimetrate'!G16+'30 Aree riperimetrate'!G17 -> 180428 | K39: ='30 Aree riperimetrate'!H14+'30 Aree riperimetrate'!H15+'30 Aree riperimetrate'!H16+'30 Aree riperimetrate'!H17 -> 4065.7
B40: Friuli-Venezia Giulia | D40: ='30 Aree riperimetrate'!F18+'30 Aree riperimetrate'!F19 -> 47 | F40: ='30 Aree riperimetrate'!J18+'30 Aree riperimetrate'!J19 -> 2 | G40: ='30 Aree riperimetrate'!K18+'30 Aree riperimetrate'!K19 -> 14 | H40: ='30 Aree riperimetrate'!L18+'30 Aree riperimetrate'!L19 -> 26 | I40: ='30 Aree riperimetrate'!M18+'30 Aree riperimetrate'!M19 -> 5 | J40: ='30 Aree riperimetrate'!G18+'30 Aree riperimetrate'!G19 -> 60149 | K40: ='30 Aree riperimetrate'!H18+'30 Aree riperimetrate'!H19 -> 2296.69
B41: Lazio
B42: Liguria | D42: ='30 Aree riperimetrate'!F20 -> 10 | F42: ='30 Aree riperimetrate'!J20 -> 1 | G42: ='30 Aree riperimetrate'!K20 -> 7 | H42: ='30 Aree riperimetrate'!L20 -> 2 | J42: ='30 Aree riperimetrate'!G20 -> 18736 | K42: ='30 Aree riperimetrate'!H20 -> 361.99
B43: Lombardia | D43: ='30 Aree riperimetrate'!F21+'30 Aree riperimetrate'!F22 -> 59 | F43: ='30 Aree riperimetrate'!J21+'30 Aree riperimetrate'!J22 -> 21 | G43: ='30 Aree riperimetrate'!K21+'30 Aree riperimetrate'!K22 -> 15 | H43: ='30 Aree riperimetrate'!L21+'30 Aree riperimetrate'!L22 -> 23 | J43: ='30 Aree riperimetrate'!G21+'30 Aree riperimetrate'!G22 -> 65861 | K43: ='30 Aree riperimetrate'!H21+'30 Aree riperimetrate'!H22 -> 1089.22
B44: Marche | D44: ='30 Aree riperimetrate'!F23 -> 10 | G44: ='30 Aree riperimetrate'!K23 -> 3 | H44: ='30 Aree riperimetrate'!L23 -> 7 | J44: ='30 Aree riperimetrate'!G23 -> 37084 | K44: ='30 Aree riperimetrate'!H23 -> 958.52
B45: Molise | D45: ='30 Aree riperimetrate'!F24 -> 33 | F45: ='30 Aree riperimetrate'!J24 -> 2 | G45: ='30 Aree riperimetrate'!K24 -> 9 | H45: ='30 Aree riperimetrate'!L24 -> 17 | I45: ='30 Aree riperimetrate'!M24 -> 5 | J45: ='30 Aree riperimetrate'!G24 -> 29692 | K45: ='30 Aree riperimetrate'!H24 -> 993.39
B46: Piemonte
B47: Puglia
B48: Sardegna
...

Sheet Mappatura2020_Comuni AI
A1: Mappa Aree Interne 2020
A3: PROCOM_T | B3: COD_REG | C3: REGIONE | D3: COD_PROV | E3: SIGLA AUTOM. | F3: PROVINCIA/CITTA' METROPOLITANA | G3: COMUNE_30sett20 | H3: FLAG CAPOLUOGO | I3: Superficie territoriale (kmq) al 01/01/2019 | J3: Popolazione residente censimento 2020 | K3: MAPPA AI 2020 COD_AI_2020 | L3: MAPPA AI 2020 DES_AI_2020 | M3: MAPPA AI 2020 MEDIA tempi di percorrenza (arrotondata alla prima cifra ddcimale) | N3: MAPPA AI 2020 Codice PROCOM_N del COMUNE di destinazione prevalente | O3: MAPPA AI 2020 Denominazione del COMUNE di destinazione prevalente
A4: 001003 | B4: 1 | C4: Piemonte | D4: 201 | E4: TO | F4: Torino | G4: Ala di Stura | H4: 0 | I4: 46.3315 | J4: 459 | K4: E | L4: E - Periferico | M4: 58 | N4: 1090 | O4: Collegno
A5: 001007 | B5: 1 | C5: Piemonte | D5: 201 | E5: TO | F5: Torino | G5: Alpette | H5: 0 | I5: 5.6261 | J5: 235 | K5: E | L5: E - Periferico | M5: 42.2 | N5: 1125 | O5: Ivrea
A6: 001011 | B6: 1 | C6: Piemonte | D6: 201 | E6: TO | F6: Torino | G6: Angrogna | H6: 0 | I6: 38.8782 | J6: 838 | K6: D | L6: D - Intermedio | M6: 29.9 | N6: 1191 | O6: Pinerolo
A7: 001016 | B7: 1 | C7: Piemonte | D7: 201 | E7: TO | F7: Torino | G7: Balangero | H7: 0 | I7: 13.0063 | J7: 3064 | K7: D | L7: D - Intermedio | M7: 38.2 | N7: 1082 | O7: Chivasso
A8: 001019 | B8: 1 | C8: Piemonte | D8: 201 | E8: TO | F8: Torino | G8: Balme | H8: 0 | I8: 62.7105 | J8: 110 | K8: F | L8: F - Ultraperiferico | M8: 69.1 | N8: 1090 | O8: Collegno
A9: 001021 | B9: 1 | C9: Piemonte | D9: 201 | E9: TO | F9: Torino | G9: Barbania | H9: 0 | I9: 12.8027 | J9: 1585 | K9: D | L9: D - Intermedio | M9: 29.8 | N9: 1082 | O9: Chivasso
A10: 001022 | B10: 1 | C10: Piemonte | D10: 201 | E10: TO | F10: Torino | G10: Bardonecchia | H10: 0 | I10: 132.203 | J10: 3078 | K10: E | L10: E - Periferico | M10: 54.6 | N10: 1090 | O10: Collegno
A11: 001026 | B11: 1 | C11: Piemonte | D11: 201 | E11: TO | F11: Torino | G11: Bobbio Pellice | H11: 0 | I11: 94.0819 | J11: 537 | K11: D | L11: D - Intermedio | M11: 37.2 | N11: 1191 | O11: Pinerolo
A12: 001029 | B12: 1 | C12: Piemonte | D12: 201 | E12: TO | F12: Torino | G12: Borgiallo | H12: 0 | I12: 6.9648 | J12: 592 | K12: D | L12: D - Intermedio | M12: 32.4 | N12: 1125 | O12: Ivrea
A13: 001036 | B13: 1 | C13: Piemonte | D13: 201 | E13: TO | F13: Torino | G13: Brosso | H13: 0 | I13: 11.135 | J13: 402 | K13: D | L13: D - Intermedio | M13: 29.7 | N13: 1125 | O13: Ivrea
A14: 001043 | B14: 1 | C14: Piemonte | D14: 201 | E14: TO | F14: Torino | G14: Busano | H14: 0 | I14: 5.0591 | J14: 1622 | K14: D | L14: D - Intermedio | M14: 31 | N14: 1125 | O14: Ivrea
A15: 001046 | B15: 1 | C15: Piemonte | D15: 201 | E15: TO | F15: Torino | G15: Cafasse | H15: 0 | I15: 10.2312 | J15: 3334 | K15: D | L15: D - Intermedio | M15: 31.1 | N15: 1082 | O15: Chivasso
... A3837: 111105 | B3837: 20 | C3837: Sardegna | D3837: 111 | E3837: SU | F3837: Sud Sardegna | G3837: Villasimius | H3837: 0 | I3837: 57.9708 | J3837: 3688 | K3837: E | L3837: E - Periferico | M3837: 64 | N3837: 92009 | O3837: Cagliari

Sheet 72 Aree SNAI_14-20
A2: ELENCO 72 AREE 2014 - 2020
A4: Regione | B4: nr progressivo | C4: Aree SNAI 2014-2020 | D4: Totale Comuni | E4: A - Polo | F4: C - Cintura | G4: D - Intermedio | H4: E - Periferico | I4: F - Ultraperiferico | J4: Popolazione residente ISTAT 2020 | K4: Superfice ISTAT 2020
A5: Abruzzo | B5: 1 | C5: Alto Aterno - Gran Sasso Laga | D5: 15 | F5: 6 | G5: 7 | H5: 2 | J5: 31822 | K5: 952.0808
B6: 2 | C6: Basso Sangro - Trigno | D6: 33 | H6: 15 | I6: 18 | J6: 18826 | K6: 760.9288
B7: 3 | C7: Gran Sasso - Valle Subequana | D7: 24 | F7: 2 | G7: 12 | H7: 10 | J7: 8312 | K7: 650.1115
B8: 4 | C8: Valfino-Vestina | D8: 19 | F8: 4 | G8: 6 | H8: 9 | J8: 23577 | K8: 516.1203
B9: 5 | C9: Valle del Giovenco - Valle Roveto | D9: 12 | F9: 7 | G9: 5 | J9: 21873 | K9: 591.4157
A10: Basilicata | B10: 6 | C10: Alto Bradano | D10: 8 | F10: 1 | G10: 2 | H10: 5 | J10: 23151 | K10: 755.7924
B11: 7 | C11: Marmo Platano | D11: 7 | F11: 1 | G11: 2 | H11: 4 | J11: 20033 | K11: 457.8342
B12: 8 | C12: Mercure - Alto Sinni - Val Sarmento | D12: 19 | I12: 19 | J12: 29920 | K12: 958.6013
B13: 9 | C13: Montagna Materana | D13: 8 | H13: 4 | I13: 4 | J13: 9858 | K13: 645.0315
A14: Calabria | B14: 10 | C14: Grecanica | D14: 11 | G14: 3 | H14: 7 | I14: 1 | J14: 16259 | K14: 434.7488
B15: 11 | C15: Ionico - Serre | D15: 14 | G15: 2 | H15: 12 | J15: 31461 | K15: 450.4019
B16: 12 | C16: Reventino - Savuto | D16: 14 | F16: 1 | G16: 9 | H16: 4 | J16: 20018 | K16: 353.8816
B17: 13 | C17: Sila e Presila | D17: 19 | G17: 6 | H17: 11 | I17: 2 | J17: 23791 | K17: 1057.7368
A18: Campania | B18: 14 | C18: Alta Irpinia | D18: 25 | G18: 8 | H18: 17 | J18: 58071 | K18: 1118.0258
B19: 15 | C19: Cilento Interno | D19: 29 | G19: 1 | H19: 15 | I19: 13 | J19: 45640 | K19: 949.4014
B20: 16 | C20: Tammaro - Titerno | D20: 24 | F20: 7 | G20: 14 | H20: 3 | J20: 59893 | K20: 677.1404
B21: 17 | C21: Vallo di Diano | D21: 15 | G21: 4 | H21: 11 | J21: 56557 | K21: 725.3105
A22: Emilia-Romagna | B22: 18 | C22: Alta Valmarecchia | D22: 7 | G22: 1 | H22: 6 | J22: 16844 | K22: 329.0592
B23: 19 | C23: Appennino Reggiano già Appennino Emiliano | D23: 7 | H23: 6 | I23: 1 | J23: 32220 | K23: 796.9272
B24: 20 | C24: Appennino Piacentino Parmense | D24: 12 | F24: 1 | G24: 4 | H24: 6 | I24: 1 | J24: 20686 | K24: 1141.075
B25: 21 | C25: Basso Ferrarese | D25: 7 | G25: 4 | H25: 3 | J25: 54450 | K25: 700.4123
A26: Friuli-Venezia Giulia | B26: 22 | C26: Alta Carnia | D26: 20 | H26: 16 | I26: 4 | J26: 18700 | K26: 997.8342
B27: 23 | C27: Canal del Ferro - Val Canale | D27: 8 | H27: 8 | J27: 9972 | K27: 884.9027
B28: 24 | C28: Dolomiti Friulane | D28: 8 | G28: 4 | H28: 4 | J28: 4577 | K28: 725.8503
A29: Lazio | B29: 25 | C29: Alta Tuscia Antica Città del Castro | D29: 19 | F29: 4 | G29: 11 | H29: 4 | J29: 50734 | K29: 1242.9122
B30: 26 | C30: Monti Reatini | D30: 31 | F30: 9 | G30: 10 | H30: 12 | J30: 31351 | K30: 1622.7783
B31: 27 | C31: Monti Simbruini | D31: 24 | F31: 2 | G31: 13 | H31: 8 | I31: 1 | J31: 25390 | K31: 571.7528
B32: 28 | C32: Valle del Comino | D32: 17 | F32: 9 | G32: 8 | J32: 25504 | K32: 571.1351
A33: Liguria | B33: 29 | C33: Alta Valle Arroscia | D33: 11 | F33: 1 | G33: 7 | H33: 3 | J33: 4228 | K33: 253.7684
B34: 30 | C34: Antola-Tigullio | D34: 16 | F34: 3 | G34: 2 | H34: 4 | I34: 7 | J34: 16710 | K34: 592.2972
B35: 31 | C35: Beigua SOL | D35: 8 | F35: 1 | G35: 5 | H35: 2 | J35: 17395 | K35: 317.7508
B36: 32 | C36: Val di Vara | D36: 13 | F36: 6 | G36: 5 | H36: 2 | J36: 15486 | K36: 529.2581
A37: Lombardia | B37: 33 | C37: Alta Valtellina | D37: 5 | H37: 2 | I37: 3 | J37: 18329 | K37: 668.1683
B38: 34 | C38: Alto Lago di Como e Valli del Lario | D38: 31 | F38: 4 | G38: 11 | H38: 16 | J38: 38402 | K38: 450.5846
B39: 35 | C39: Appennino Lombardo - Alto Oltrepò Pavese | D39: 14 | F39: 5 | G39: 3 | H39: 6 | J39: 10170 | K39: 399.1357
B40: 36 | C40: Valchiavenna | D40: 12 | G40: 2 | H40: 8 | I40: 2 | J40: 24223 | K40: 575.3357
A41: Marche | B41: 37 | C41: Alto Maceratese | D41: 17 | F41: 1 | G41: 8 | H41: 8 | J41: 16995 | K41: 885.4628
B42: 38 | C42: Appennino Basso Pesarese e Anconetano | D42: 9 | G42: 3 | H42: 6 | J42: 31235 | K42: 846.1263
...

Sheet Comuni 72 Aree SNAI 14-20
A2: Codice Comune (Istat) | B2: Comune | C2: Regione | D2: Provincia | E2: Popolazione residente (Istat 31.12.2020) | F2: Macro_2020 | G2: SNAI_2020 | H2: Denominazione Città Metropolitana/Provincia | I2: Aree SNAI 2014-2020 | J2: Superficie Km2 (Istat 31.12.19 )
A3: 047023 | B3: Abetone Cutigliano | C3: Toscana | D3: Pistoia | E3: 1973 | F3: Aree interne | G3: F - Ultraperiferico | H3: Pistoia | I3: Garfagnana-Lunigiana - Media Valle del Serchio - Appennino Pistoiese | J3: 74.9918
A4: 071001 | B4: Accadia | C4: Puglia | D4: Foggia | E4: 2212 | F4: Aree interne | G4: E - Periferico | H4: Foggia | I4: Monti Dauni | J4: 30.7359
A5: 004021 | B5: Bergolo | C5: Piemonte | D5: Cuneo | E5: 54 | F5: Aree interne | G5: E - Periferico | H5: Cuneo | I5: Val Bormida | J5: 3.1118
A6: 077001 | B6: Accettura | C6: Basilicata | D6: Matera | E6: 1679 | F6: Aree interne | G6: E - Periferico | H6: Matera | I6: Montagna Materana | J6: 90.3668
A7: 066001 | B7: Acciano | C7: Abruzzo | D7: L'Aquila | E7: 300 | F7: Aree interne | G7: E - Periferico | H7: L'Aquila | I7: Subequana | J7: 32.2232
A8: 057001 | B8: Accumoli | C8: Lazio | D8: Rieti | E8: 555 | F8: Aree interne | G8: E - Periferico | H8: Rieti | I8: Monti Reatini | J8: 87.343
A9: 076002 | B9: Acerenza | C9: Basilicata | D9: Potenza | E9: 2204 | F9: Aree interne | G9: E - Periferico | H9: Potenza | I9: Alto Bradano | J9: 77.6422
A10: 060001 | B10: Acquafondata | C10: Lazio | D10: Frosinone | E10: 280 | F10: Aree interne | G10: D - Intermedio | H10: Frosinone | I10: Valle del Comino | J10: 25.3174
A11: 041001 | B11: Acqualagna | C11: Marche | D11: Pesaro e Urbino | E11: 4240 | F11: Aree interne | G11: D - Intermedio | H11: Pesaro e Urbino | I11: Appennino Basso Pesarese e Anconetano | J11: 50.6846
A12: 056001 | B12: Acquapendente | C12: Lazio | D12: Viterbo | E12: 5346 | F12: Aree interne | G12: D - Intermedio | H12: Viterbo | I12: Alta Tuscia Antica Città del Castro | J12: 131.6022
A13: 044001 | B13: Acquasanta Terme | C13: Marche | D13: Ascoli Piceno | E13: 2575 | F13: Centri | G13: C - Cintura | H13: Ascoli Piceno | I13: Piceno | J13: 138.3914
A14: 094001 | B14: Acquaviva d'Isernia | C14: Molise | D14: Isernia | E14: 395 | F14: Aree interne | G14: E - Periferico | H14: Isernia | I14: Mainarde | J14: 13.5139
... A138: 082014 | B138: Caccamo | C138: Sicilia | D138: Città Metropolitana di Palermo | E138: 7827 | F138: Centri | G138: C - Cintura | H138: Città Metropolitana di Palermo | I138: Madonie | J138: 188.2312
A139: 101002 | B139: Caccuri | C139: Calabria | D139: Crotone | E139: 1572 | F139: Aree interne | G139: D - Intermedio | H139: Crotone | I139: Sila e Presila | J139: 61.3762
A140: 004109 | B140: Levice | C140: Piemonte | D140: Cuneo | E140: 201 | F140: Aree interne | G140: E - Periferico | H140: Cuneo | I140: Val Bormida | J140: 15.739
A141: 041007 | B141: Cagli | C141: Marche | D141: Pesaro e Urbino | E141: 8072 | F141: Aree interne | G141: D - Intermedio | H141: Pesaro e Urbino | I141: Appennino Basso Pesarese e Anconetano | J141: 226.4575
A142: 071008 | B142: Cagnano Varano | C142: Puglia | D142: Foggia | E142: 6711 | F142: Aree interne | G142: E - Periferico | H142: Foggia | I142: Gargano | J142: 166.8365
A143: 064013 | B143: Cairano | C143: Campania | D143: Avellino | E143: 281 | F143: Aree interne | G143: E - Periferico | H143: Avellino | I143: Alta Irpinia | J143: 13.8104
A144: 064014 | B144: Calabritto | C144: Campania | D144: Avellino | E144: 2161 | F144: Aree interne | G144: D - Intermedio | H144: Avellino | I144: Alta Irpinia | J144: 56.334
A145: 084006 | B145: Calamonaci | C145: Sicilia | D145: Agrigento | E145: 1203 | F145: Aree interne | G145: E - Periferico | H145: Agrigento | I145: Terre Sicane | J145: 32.8901
A146: 005060 | B146: Loazzolo | C146: Piemonte | D146: Asti | E146: 319 | F146: Aree interne | G146: E - Periferico | H146: Asti | I146: Val Bormida | J146: 14.8219
A147: 066014 | B147: Calascio | C147: Abruzzo | D147: L'Aquila | E147: 128 | F147: Aree interne | G147: D - Intermedio | H147: L'Aquila | I147: Subequana | J147: 39.4433
A148: 022033 | B148: Caldes | C148: Trentino-Alto Adige | D148: Trento | E148: 1094 | F148: Aree interne | G148: E - Periferico | H148: Trento | I148: Val di Sole | J148: 20.8086
A149: 011008 | B149: Calice al Cornoviglio | C149: Liguria | D149: La Spezia | E149: 1058 | F149: Aree interne | G149: D - Intermedio | H149: La Spezia | I149: Val di Vara | J149: 33.7544
A150: 064015 | B150: Calitri | C150: Campania | D150: Avellino | E150: 4341 | F150: Aree interne | G150: E - Periferico | H150: Avellino | I150: Alta Irpinia | J150: 101.0517
A151: 078022 | B151: Caloveto | C151: Calabria | D151: Cosenza | E151: 1152 | F151: Aree interne | G151: E - Periferico | H151: Cosenza | I151: Sila e Presila | J151: 24.9642
... A188: 046008 | B188: Careggine | C188: Toscana | D188: Lucca | E188: 522 | F188: Aree interne | G188: F - Ultraperiferico | H188: Lucca | I188: Garfagnana-Lunigiana - Media Valle del Serchio - Appennino Pistoiese | J188: 24.081
A189: 101003 | B189: Carfizzi | C189: Calabria | D189: Crotone | E189: 531 | F189: Aree interne | G189: E - Periferico | H189: Crotone | I189: Sila e Presila | J189: 20.7254
A190: 071011 | B190: Carlantino | C190: Puglia | D190: Foggia | E190: 845 | F190: Aree interne | G190: E - Periferico | H190: Foggia | I190: Monti Dauni | J190: 34.7114
A191: 079020 | B191: Carlopoli | C191: Calabria | D191: Catanzaro | E191: 1406 | F191: Aree interne | G191: E - Periferico | H191: Catanzaro | I191: Reventino - Savuto | J191: 16.4125
A192: 083011 | B192: Caronia | C192: Sicilia | D192: Città Metropolitana di Messina | E192: 3097 | F192: Aree interne | G192: E - Periferico | H192: Città Metropolitana di Messina | I192: Nebrodi | J192: 227.2587
A193: 094007 | B193: Carovilli | C193: Molise | D193: Isernia | E193: 1279 | F193: Aree interne | G193: E - Periferico | H193: Isernia | I193: Alto Medio Sannio | J193: 41.5624
A194: 078027 | B194: Carpanzano | C194: Calabria | D194: Cosenza | E194: 214 | F194: Aree interne | G194: D - Intermedio | H194: Cosenza | I194: Reventino - Savuto | J194: 14.2733
A195: 035011 | B195: Carpineti | C195: Emilia-Romagna | D195: Reggio nell'Emilia | E195: 3877 | F195: Aree interne | G195: E - Periferico | H195: Reggio nell'Emilia | I195: Appennino Emiliano | J195: 89.567
A196: 068008 | B196: Carpineto della Nora | C196: Abruzzo | D196: Pescara | E196: 573 | F196: Aree interne | G196: E - Periferico | H196: Pescara | I196: Valfino-Vestina | J196: 24.0819
A197: 071012 | B197: Carpino | C197: Puglia | D197: Foggia | E197: 3867 | F197: Aree interne | G197: E - Periferico | H197: Foggia | I197: Gargano | J197: 80.0494
A198: 011009 | B198: Carro | C198: Liguria | D198: La Spezia | E198: 518 | F198: Aree interne | G198: D - Intermedio | H198: La Spezia | I198: Val di Vara | J198: 31.7917
A199: 011010 | B199: Carrodano | C199: Liguria | D199: La Spezia | E199: 476 | F199: Centri | G199: C - Cintura | H199: La Spezia | I199: Val di Vara | J199: 21.8632
A200: 005068 | B200: Monastero Bormida | C200: Piemonte | D200: Asti | E200: 882 | F200: Aree interne | G200: E - Periferico | H200: Asti | I200: Val Bormida | J200: 14.2057
...

Sheet 56 Aree SNAI_21-27
A2: ELENCO 56 NUOVE AREE 2021 - 2027
A3: Istruite positivamente dal DPCOE-NUVAL
A4: Regione | B4: nr progressivo | C4: Aree SNAI 2021 - 2027 | D4: Totale proposte per regione | E4: nr Comuni | F4: Popolazione residente ISTAT 2020 | G4: Superfice in km2 | H4: C - Cintura | I4: D - Intermedio | J4: E - Periferico | K4: F - Ultraperiferico | L4: Finanziamento Nazionale delle 43 Aree
A5: Abruzzo | B5: 1 | C5: Piana del Cavaliere - Alto Liri | D5: 2 | E5: 10 | F5: 19490 | G5: 442.21 | H5: 4 | I5: 6 | L5: SI
B6: 2 | C6: Valle del Sagittario e dell'Alto Sangro | E6: 13 | F6: 11321 | G6: 633.63 | I6: 3 | J6: 4 | K6: 6 | L6: SI
A7: Basilicata | B7: 3 | C7: Medio Agri | D7: 3 | E7: 6 | F7: 10296 | G7: 339.85 | K7: 6 | L7: SI
B8: 4 | C8: Medio Basento | E8: 7 | F8: 26050 | G8: 733.3 | I8: 2 | J8: 5 | L8: SI
B9: 5 | C9: Vulture | E9: 11 | F9: 55502 | G9: 779.6 | I9: 5 | J9: 6
A10: Calabria | B10: 6 | C10: Alto Jonio Cosentino | D10: 3 | E10: 18 | F10: 37392 | G10: 798.52 | I10: 3 | J10: 12 | K10: 3 | L10: SI
B11: 7 | C11: Alto Tirreno-Pollino | E11: 15 | F11: 26358 | G11: 832.51 | J11: 10 | K11: 5
B12: 8 | C12: Versante Tirrenico Aspromonte | E12: 16 | F12: 57044 | G12: 491.31 | I12: 4 | J12: 12 | L12: SI
A13: Campania | B13: 9 | C13: Alto Matese | D13: 3 | E13: 17 | F13: 37212 | G13: 534.63 | J13: 17 | L13: SI
B14: 10 | C14: Fortore Beneventano | E14: 12 | F14: 26024 | G14: 519.72 | H14: 2 | I14: 3 | J14: 7 | L14: SI
B15: 11 | C15: Sele Tanagro | E15: 19 | F15: 55988 | G15: 784.87 | H15: 3 | I15: 13 | J15: 3 | L15: SI
A16: Emilia-Romagna | B16: 12 | C16: Alta Val Trebbia e Val Tidone | D16: 5 | E16: 9 | F16: 11190 | G16: 603.89 | I16: 2 | J16: 4 | K16: 3
B17: 13 | C17: Appennino Bolognese | E17: 15 | F17: 69090 | G17: 1021.97 | I17: 2 | J17: 12 | K17: 1
B18: 14 | C18: Appennino Forlivese e Cesenate | E18: 9 | F18: 21879 | G18: 953.67 | I18: 6 | J18: 3 | L18: SI
B19: 15 | C19: Appennino Modenese | E19: 18 | F19: 67762 | G19: 1214.46 | J19: 8 | K19: 10 | L19: SI
B20: 16 | C20: Appennino Parma Est | E20: 9 | F20: 28915 | G20: 796.27 | I20: 3 | J20: 4 | K20: 2 | L20: SI
A21: Friuli-Venezia Giulia | B21: 17 | C21: Valli del Torre e Natisone | D21: 1 | E21: 16 | F21: 27237 | G21: 513.91 | H21: 3 | I21: 9 | J21: 4 | L21: SI
A22: Lazio | B22: 18 | C22: Etrusco Cimina | D22: 3 | E22: 16 | F22: 72760 | G22: 630.58 | H22: 4 | I22: 10 | J22: 2
B23: 19 | C23: Monti Lepini | E23: 13 | F23: 64595 | G23: 567.68 | H23: 1 | I23: 10 | J23: 2 | L23: SI
B24: 20 | C24: Pre.gio | E24: 14 | F24: 37488 | G24: 240.35 | H24: 2 | I24: 8 | J24: 4 | L24: SI
A25: Liguria | B25: 21 | C25: Fontanabuona | D25: 4 | E25: 11 | F25: 14926 | G25: 185.4 | H25: 3 | I25: 7 | J25: 1 | L25: SI
B26: 22 | C26: Imperiese | E26: 19 | F26: 13859 | G26: 442.17 | H26: 2 | I26: 10 | J26: 7 | L26: SI
B27: 23 | C27: Val Bormida Ligure | E27: 13 | F27: 14836 | G27: 316.99 | I27: 9 | J27: 4
B28: 24 | C28: Valle Scrivia | E28: 9 | F28: 20602 | G28: 252.5 | H28: 2 | I28: 5 | J28: 2
A29: Lombardia | B29: 25 | C29: Lario Intelvese - Lario Ceresio | D29: 3 | E29: 34 | F29: 47407 | G29: 385.06 | H29: 3 | I29: 8 | J29: 22 | K29: 1 | L29: SI
B30: 26 | C30: Valcamonica | E30: 35 | F30: 80783 | G30: 959.78 | J30: 16 | K30: 19 | L30: SI
B31: 27 | C31: Valtrompia | E31: 14 | F31: 64934 | G31: 314.43 | I31: 7 | J31: 7 | L31: SI
A32: Marche | B32: 28 | C32: Appennino Alto Fermano | D32: 3 | E32: 7 | F32: 7455 | G32: 231.12 | I32: 3 | J32: 4 | L32: SI
B33: 29 | C33: Montefeltro e Alta Valle del Metauro | E33: 17 | F33: 30417 | G33: 606.78 | I33: 3 | J33: 13 | K33: 1 | L33: SI
B34: 30 | C34: Potenza Esino Musone | E34: 12 | F34: 52111 | G34: 838.91 | H34: 1 | I34: 4 | J34: 7
A35: Molise | B35: 31 | C35: Isernia - Venafro | D35: 2 | E35: 14 | F35: 45814 | G35: 396.74 | I35: 4 | J35: 10 | L35: SI
B36: 32 | C36: Medio Basso Molise | E36: 22 | F36: 28686 | G36: 843.5 | I36: 7 | J36: 15 | L36: SI
A37: Piemonte | B37: 33 | C37: Terre del Giarolo | D37: 2 | E37: 29 | F37: 14216 | G37: 544.31 | H37: 11 | I37: 13 | J37: 5 | L37: SI
B38: 34 | C38: Valsesia | E38: 36 | F38: 49279 | G38: 960.64 | H38: 2 | I38: 9 | J38: 11 | K38: 14 | L38: SI
A39: Puglia | B39: 35 | C39: Alto Salento | D39: 1 | E39: 5 | F39: 61340 | G39: 375.14 | J39: 5 | L39: SI
A40: Sardegna | B40: 36 | C40: Barbagia | D40: 2 | E40: 10 | F40: 15813 | G40: 534.07 | J40: 6 | K40: 4 | L40: SI
B41: 37 | C41: Valle del Cedrino | E41: 5 | F41: 12630 | G41: 304.16 | J41: 5 | L41: SI
...

Sheet Comuni 56 Aree SNAI 21-27
A2: PRO_COM | B2: PRO_COM_T | C2: COMUNE | D2: Regione | E2: Provincia | F2: P_2020 | G2: Macro_2020 | H2: SNAI_2020 | I2: Aree SNAI 2021 - 2027 Nuove aree | J2: Finanziamento Nazionale delle Aree Si/No
A3: 25012 | B3: 025012 | C3: Chies d'Alpago | D3: Veneto | E3: Belluno | F3: 1262 | G3: Aree interne | H3: D - Intermedio | I3: Alpago Zoldo | J3: SI
A4: 25035 | B4: 025035 | C4: Ospitale di Cadore | D4: Veneto | E4: Belluno | F4: 269 | G4: Aree interne | H4: D - Intermedio | I4: Alpago Zoldo | J4: SI
A5: 25057 | B5: 025057 | C5: Soverzene | D5: Veneto | E5: Belluno | F5: 366 | G5: Centri | H5: C - Cintura | I5: Alpago Zoldo | J5: SI
A6: 25060 | B6: 025060 | C6: Tambre | D6: Veneto | E6: Belluno | F6: 1292 | G6: Aree interne | H6: D - Intermedio | I6: Alpago Zoldo | J6: SI
A7: 25069 | B7: 025069 | C7: Zoppè di Cadore | D7: Veneto | E7: Belluno | F7: 191 | G7: Aree interne | H7: E - Periferico | I7: Alpago Zoldo | J7: SI
A8: 25071 | B8: 025071 | C8: Longarone | D8: Veneto | E8: Belluno | F8: 5119 | G8: Centri | H8: C - Cintura | I8: Alpago Zoldo | J8: SI
A9: 25072 | B9: 025072 | C9: Alpago | D9: Veneto | E9: Belluno | F9: 6648 | G9: Centri | H9: C - Cintura | I9: Alpago Zoldo | J9: SI
A10: 25073 | B10: 025073 | C10: Val di Zoldo | D10: Veneto | E10: Belluno | F10: 2842 | G10: Aree interne | H10: E - Periferico | I10: Alpago Zoldo | J10: SI
A11: 33005 | B11: 033005 | C11: Bobbio | D11: Emilia-Romagna | E11: Piacenza | F11: 3487 | G11: Aree interne | H11: E - Periferico | I11: Alta Val Trebbia e Val Tidone | J11: NO
A12: 33015 | B12: 033015 | C12: Cerignale | D12: Emilia-Romagna | E12: Piacenza | F12: 119 | G12: Aree interne | H12: F - Ultraperiferico | I12: Alta Val Trebbia e Val Tidone | J12: NO
A13: 33016 | B13: 033016 | C13: Coli | D13: Emilia-Romagna | E13: Piacenza | F13: 853 | G13: Aree interne | H13: E - Periferico | I13: Alta Val Trebbia e Val Tidone | J13: NO
A14: 33017 | B14: 033017 | C14: Corte Brugnatella | D14: Emilia-Romagna | E14: Piacenza | F14: 552 | G14: Aree interne | H14: E - Periferico | I14: Alta Val Trebbia e Val Tidone | J14: NO
... A766: 76095 | B766: 076095 | C766: Venosa | D766: Basilicata | E766: Potenza | F766: 11093 | G766: Aree interne | H766: E - Periferico | I766: Vulture | J766: NO

Sheet 30 Aree riperimetrate
A2: ELENCO 30 AREE 2014 - 2020
A3: Confermate e riperimetrate
A4: Regione | B4: nr progressivo | C4: Aree SNAI 2021 - 2027 | D4: Comuni 2014 | E4: Nuovi comuni | F4: Totale Comuni | G4: Popolazione residente ISTAT 2020 | H4: Superfice in km2 | I4: A - Polo | J4: C - Cintura | K4: D - Intermedio | L4: E - Periferico | M4: F - Ultraperiferico
A5: Abruzzo | B5: 1 | C5: Alto Aterno - Gran Sasso Laga | D5: 15 | E5: 3 | F5: 18 | G5: 37894 | H5: 1094.42 | J5: 8 | K5: 8 | L5: 2
B6: 2 | C6: Basso Sangro - Trigno | D6: 33 | E6: 4 | F6: 37 | G6: 22992 | H6: 858.54 | J6: 6 | K6: 12 | L6: 19 | M6: 18
B7: 3 | C7: Gran Sasso - Valle Subequana | D7: 24 | E7: 4 | F7: 28 | G7: 12083 | H7: 691.22 | L7: 10
B8: 4 | C8: Valfino-Vestina | D8: 19 | E8: 1 | F8: 20 | G8: 24767 | H8: 538 | J8: 4 | K8: 7 | L8: 9
B9: 5 | C9: Valle del Giovenco - Valle Roveto | D9: 12 | E9: 1 | F9: 13 | G9: 22993 | H9: 645.44 | J9: 8 | K9: 5
A10: Basilicata | B10: 6 | C10: Alto Bradano | D10: 8 | E10: 1 | F10: 9 | G10: 24317 | H10: 798.29 | J10: 1 | K10: 3 | L10: 5
B11: 7 | C11: Marmo Platano | D11: 7 | E11: 3 | F11: 10 | G11: 24588 | H11: 617.66 | J11: 1 | K11: 2 | L11: 7
B12: 8 | C12: Mercure - Alto Sinni - Val Sarmento | D12: 19 | E12: 2 | F12: 21 | G12: 35369 | H12: 1063.9 | M12: 21
A13: Calabria | B13: 9 | C13: Versante Ionico - Serre | D13: 14 | E13: 2 | F13: 16 | G13: 33632 | H13: 513.22 | K13: 3 | L13: 13
A14: Emilia-Romagna | B14: 10 | C14: Alta Valmarecchia | D14: 7 | E14: 3 | F14: 10 | G14: 33141 | H14: 426.91 | J14: 1 | K14: 2 | L14: 7
B15: 11 | C15: Appennino Reggiano già Appennino Emiliano | D15: 7 | E15: 3 | F15: 10 | G15: 42414 | H15: 970.53 | K15: 2 | L15: 7 | M15: 1
B16: 12 | C16: Appennino Piacentino Parmense | D16: 12 | E16: 7 | F16: 19 | G16: 37170 | H16: 1817.23 | J16: 1 | K16: 5 | L16: 12 | M16: 1
B17: 13 | C17: Basso Ferrarese | D17: 7 | E17: 2 | F17: 9 | G17: 67703 | H17: 851.03 | K17: 5 | L17: 4
A18: Friuli-Venezia Giulia | B18: 14 | C18: Alta Carnia | D18: 20 | E18: 5 | F18: 25 | G18: 24738 | H18: 1148.58 | L18: 20 | M18: 5
B19: 15 | C19: Dolomiti Friulane | D19: 8 | E19: 14 | F19: 22 | G19: 35411 | H19: 1148.11 | J19: 2 | K19: 14 | L19: 6
A20: Liguria | B20: 16 | C20: Beigua SOL | D20: 8 | E20: 2 | F20: 10 | G20: 18736 | H20: 361.99 | J20: 1 | K20: 7 | L20: 2
A21: Lombardia | B21: 17 | C21: Alto Lago di Como e Valli del Lario | D21: 31 | E21: 10 | F21: 41 | G21: 50083 | H21: 611.48 | J21: 12 | K21: 12 | L21: 17
B22: 18 | C22: Appennino Lombardo - Alto Oltrepò Pavese | D22: 14 | E22: 4 | F22: 18 | G22: 15778 | H22: 477.74 | J22: 9 | K22: 3 | L22: 6
A23: Marche | B23: 19 | C23: Appennino Basso Pesarese e Anconetano | D23: 9 | E23: 1 | F23: 10 | G23: 37084 | H23: 958.52 | K23: 3 | L23: 7
A24: Molise | B24: 20 | C24: Alto Medio Sannio * | D24: 33 | E24: - * | F24: 33 | G24: 29692 | H24: 993.39 | J24: 2 | K24: 9 | L24: 17 | M24: 5
A25: Sicilia | B25: 21 | C25: Calatino | D25: 8 | E25: 1 | F25: 9 | G25: 75958 | H25: 982.43 | K25: 2 | L25: 6 | M25: 1
B26: 22 | C26: Madonie | D26: 21 | E26: 5 | F26: 26 | G26: 72017 | H26: 1919.36 | J26: 2 | K26: 11 | L26: 13
B27: 23 | C27: Nebrodi | D27: 21 | E27: 8 | F27: 29 | G27: 79210 | H27: 1166.98 | K27: 4 | L27: 21 | M27: 4
B28: 24 | C28: Valle del Simeto | D28: 3 | E28: 1 | F28: 4 | G28: 69480 | H28: 353.97 | K28: 2 | L28: 2
A29: Toscana | B29: 25 | C29: Casentino - Valtiberina | D29: 9 | E29: 8 | F29: 17 | G29: 63112 | H29: 1374.16 | J29: 1 | K29: 8 | L29: 6 | M29: 2
B30: 26 | C30: Garfagnana-Lunigiana - Media Valle del Serchio - Appennino Pistoiese | D30: 19 | E30: 17 | F30: 36 | G30: 109460 | H30: 2176.09 | J30: 1 | K30: 12 | L30: 18 | M30: 5
B31: 27 | C31: Valdarno e Valdisieve, Mugello, Val Bisenzio | D31: 5 | E31: 9 | F31: 14 | G31: 92387 | H31: 1528.58 | J31: 1 | K31: 4 | L31: 9
A32: Umbria | B32: 28 | C32: Nord Est Umbria | D32: 7 | E32: 3 | F32: 10 | G32: 65186 | H32: 1258.1 | J32: 2 | K32: 4 | L32: 4
B33: 29 | C33: Sud Ovest Orvietano | D33: 20 | E33: -1 | F33: 19 | G33: 51393 | H33: 1076.21 | I33: 1 | J33: 7 | K33: 11
A34: Valle d'Aosta/Vallée d'Aoste | B34: 30 | C34: Grand Paradis | D34: 6 | E34: 7 | F34: 13 | G34: 15432 | H34: 825.87 | J34: 7 | K34: 2 | L34: 4
A35: TOTALE | C35: * Escono 2 comuni ed entrano 2 comuni | D35: =SUM(D5:D34) -> 426 | E35: =SUM(E5:E34) -> 130 | F35: =SUM(F5:F34) -> 556 | G35: =SUM(G5:G34) -> 1324220 | H35: =SUM(H5:H34) -> 29247.95 | I35: =SUM(I5:I34) -> 1 | J35: =SUM(J5:J34) -> 77 | K35: =SUM(K5:K34) -> 162 | ... M35: =SUM(M5:M34) -> 63

Sheet Comuni 30 Aree Riperimetrate
A2: PRO_COM | B2: PRO_COM_T | C2: COMUNE I comuni in rosso soo stati annessi all'area nella programmazione 21-27 | D2: Regione | E2: Provincia | F2: P_2020 | G2: Macro_2020 | H2: SNAI_2020 | I2: Aree SNAI 2021 - 2027 Confermate e riperimetrate
A3: 30003 | B3: 030003 | C3: Ampezzo | D3: Friuli-Venezia Giulia | E3: Udine | F3: 941 | G3: Aree interne | H3: E - Periferico | I3: Alta Carnia
A4: 30005 | B4: 030005 | C4: Arta Terme | D4: Friuli-Venezia Giulia | E4: Udine | F4: 2033 | G4: Aree interne | H4: E - Periferico | I4: Alta Carnia
A5: 30022 | B5: 030022 | C5: Cercivento | D5: Friuli-Venezia Giulia | E5: Udine | F5: 652 | G5: Aree interne | H5: E - Periferico | I5: Alta Carnia
A6: 30029 | B6: 030029 | C6: Comeglians | D6: Friuli-Venezia Giulia | E6: Udine | F6: 449 | G6: Aree interne | H6: E - Periferico | I6: Alta Carnia
A7: 30035 | B7: 030035 | C7: Enemonzo | D7: Friuli-Venezia Giulia | E7: Udine | F7: 1278 | G7: Aree interne | H7: E - Periferico | I7: Alta Carnia
A8: 30040 | B8: 030040 | C8: Forni Avoltri | D8: Friuli-Venezia Giulia | E8: Udine | F8: 531 | G8: Aree interne | H8: F - Ultraperiferico | I8: Alta Carnia
A9: 30041 | B9: 030041 | C9: Forni di Sopra | D9: Friuli-Venezia Giulia | E9: Udine | F9: 911 | G9: Aree interne | H9: F - Ultraperiferico | I9: Alta Carnia
A10: 30042 | B10: 030042 | C10: Forni di Sotto | D10: Friuli-Venezia Giulia | E10: Udine | F10: 557 | G10: Aree interne | H10: F - Ultraperiferico | I10: Alta Carnia
A11: 30047 | B11: 030047 | C11: Lauco | D11: Friuli-Venezia Giulia | E11: Udine | F11: 678 | G11: Aree interne | H11: E - Periferico | I11: Alta Carnia
A12: 30067 | B12: 030067 | C12: Ovaro | D12: Friuli-Venezia Giulia | E12: Udine | F12: 1791 | G12: Aree interne | H12: E - Periferico | I12: Alta Carnia
A13: 30071 | B13: 030071 | C13: Paluzza | D13: Friuli-Venezia Giulia | E13: Udine | F13: 2003 | G13: Aree interne | H13: E - Periferico | I13: Alta Carnia
A14: 30073 | B14: 030073 | C14: Paularo | D14: Friuli-Venezia Giulia | E14: Udine | F14: 2382 | G14: Aree interne | H14: E - Periferico | I14: Alta Carnia
... A558: 102037 | B558: 102037 | C558: Serra San Bruno | D558: Calabria | E558: Vibo Valentia | F558: 6352 | G558: Aree interne | H558: E - Periferico | I558: Versante Ionico - Serre

Sheet 41 Aree SNAI_14-20
A2: ELENCO 37 AREE 2014 - 2020
A3: Confermate
A4: Regione | B4: nr progressivo | C4: Aree SNAI 2014 - 2020 | D4: nr Comuni | E4: Popolazione residente ISTAT 2020 | F4: Superfice | G4: C - Cintura | H4: D - Intermedio | I4: E - Periferico | J4: F - Ultraperiferico
A5: Basilicata | B5: 1 | C5: Montagna Materana | D5: 8 | E5: 9858 | F5: 645.03 | I5: 4 | J5: 4
A6: Calabria | B6: =B5+1 -> 2 | C6: Grecanica | D6: 11 | E6: 16259 | F6: 434.75 | H6: 3 | I6: 7 | J6: 1
B7: =B6+1 -> 3 | C7: Reventino - Savuto | D7: 14 | E7: 20018 | F7: 353.88 | G7: 1 | H7: 9 | I7: 4
B8: =B7+1 -> 4 | C8: Sila e Presila | D8: 19 | E8: 23791 | F8: 1057.74 | H8: 6 | I8: 11 | J8: 2
A9: Campania | B9: =B8+1 -> 5 | C9: Alta Irpinia | D9: 25 | E9: 58071 | F9: 1118.03 | H9: 8 | I9: 17
B10: =B9+1 -> 6 | C10: Cilento Interno | D10: 29 | E10: 45640 | F10: 949.4 | H10: 1 | I10: 15 | J10: 13
B11: =B10+1 -> 7 | C11: Tammaro - Titerno | D11: 24 | E11: 59893 | F11: 677.14 | G11: 7 | H11: 14 | I11: 3
B12: =B11+1 -> 8 | C12: Vallo di Diano | D12: 15 | E12: 56557 | F12: 725.31 | H12: 4 | I12: 11
A13: Friuli-Venezia Giulia | B13: =B12+1 -> 9 | C13: Canal del Ferro - Val Canale | D13: 8 | E13: 9972 | F13: 884.9 | I13: 8
A14: Lazio | B14: =B13+1 -> 10 | C14: Alta Tuscia Antica Città del Castro | D14: 19 | E14: 50734 | F14: 1242.91 | G14: 4 | H14: 11 | I14: 4
B15: =B14+1 -> 11 | C15: Monti Reatini | D15: 31 | E15: 31351 | F15: 1622.78 | G15: 9 | H15: 10 | I15: 12
B16: =B15+1 -> 12 | C16: Monti Simbruini | D16: 24 | E16: 25390 | F16: 571.75 | G16: 2 | H16: 13 | I16: 8 | J16: 1
B17: =B16+1 -> 13 | C17: Valle del Comino | D17: 17 | E17: 25504 | F17: 571.14 | G17: 9 | H17: 8
A18: Liguria | B18: =B17+1 -> 14 | C18: Alta Valle Arroscia | D18: 11 | E18: 4228 | F18: 253.77 | G18: 1 | H18: 7 | I18: 3
B19: =B18+1 -> 15 | C19: Antola-Tigullio | D19: 16 | E19: 16710 | F19: 592.3 | G19: 3 | H19: 2 | I19: 4 | J19: 7
B20: =B19+1 -> 16 | C20: Val di Vara | D20: 13 | E20: 15486 | F20: 529.26 | G20: 6 | H20: 5 | I20: 2
A21: Lombardia | B21: =B20+1 -> 17 | C21: Valchiavenna | D21: 12 | E21: 24223 | F21: 575.34 | H21: 2 | I21: 8 | J21: 2
A22: Marche | B22: =B21+1 -> 18 | C22: Alto Maceratese | D22: 17 | E22: 16995 | F22: 885.46 | G22: 1 | H22: 8 | I22: 8
B23: =B22+1 -> 19 | C23: Ascoli Piceno | D23: 17 | E23: 27051 | F23: 761.16 | G23: 6 | H23: 11
A24: Molise | B24: =B23+1 -> 20 | C24: Fortore | D24: 12 | E24: 19024 | F24: 485.63 | G24: 4 | H24: 7 | I24: 1
B25: =B24+1 -> 21 | C25: Mainarde | D25: 13 | E25: 12236 | F25: 323.58 | I25: 12 | J25: 1
B26: =B25+1 -> 22 | C26: Matese | D26: 14 | E26: 19352 | F26: 419.61 | G26: 8 | H26: 6
A27: Piemonte | B27: =B26+1 -> 23 | C27: Val Bormida | D27: 33 | E27: 16230 | F27: 516.0101 | H27: 8 | I27: 25
B28: =B27+1 -> 24 | C28: Val di Lanzo | D28: 19 | E28: 23292 | F28: 695.8777 | H28: 6 | I28: 11 | J28: 2
B29: =B28+1 -> 25 | C29: Val d'Ossola | D29: 10 | E29: 3921 | F29: 465.1085 | G29: 4 | H29: 5 | I29: 1
B30: =B29+1 -> 26 | C30: Valli Grana e Maira | D30: 18 | E30: 13209 | F30: 712.0231 | G30: 4 | H30: 6 | I30: 7 | J30: 1
A31: Puglia | B31: =B30+1 -> 27 | C31: Alta Murgia | D31: 3 | E31: 15844 | F31: 484.86 | H31: 1 | I31: 2
B32: =B31+1 -> 28 | C32: Gargano | D32: 5 | E32: 33818 | F32: 688.56 | I32: 3 | J32: 2
B33: =B32+1 -> 29 | C33: Monti Dauni | D33: 29 | E33: 54403 | F33: 1946.65 | G33: 2 | H33: 14 | I33: 13
B34: =B33+1 -> 30 | C34: Sud Salento | D34: 13 | E34: 64642 | F34: 246.38 | H34: 2 | I34: 11
A35: Sardegna | B35: =B34+1 -> 31 | C35: Alta Marmilla | D35: 19 | E35: 8971 | F35: 334.57 | H35: 12 | I35: 7
B36: =B35+1 -> 32 | C36: Gennargentu - Mandrolisai | D36: 11 | E36: 13199 | F36: 562.84 | I36: 4 | J36: 7
A37: Sicilia | B37: =B36+1 -> 33 | C37: Terre Sicane | D37: 12 | E37: 46834 | F37: 636.56 | H37: 2 | I37: 7 | J37: 3
A38: P.A. Trento | B38: =B37+1 -> 34 | C38: Tesino | D38: 3 | E38: 2152 | F38: 212.36 | I38: 3
B39: =B38+1 -> 35 | C39: Val di Sole | D39: 13 | E39: 15511 | F39: 611.53 | I39: 9 | J39: 4
A40: Umbria | B40: =B39+1 -> 36 | C40: Val Nerina | D40: 14 | E40: 18171 | F40: 1060.2 | G40: 6 | H40: 3 | I40: 5
A41: Valle d'Aosta/Vallée d'Aoste | B41: =B40+1 -> 37 | C41: Bassa Valle | D41: 23 | E41: 22446 | F41: 812.22 | G41: 2 | H41: 15 | I41: 6
...

Sheet Comuni 41 Aree SNAI_14-20
A2: PRO_COM | B2: PRO_COM_T | C2: COMUNE | D2: Regione | E2: Provincia | F2: P_2020 | G2: Macro_2020 | H2: SNAI_2020 | I2: Aree SNAI 2014 - 2020
A3: 77001 | B3: 077001 | C3: Accettura | D3: Basilicata | E3: Matera | F3: 1679 | G3: Aree interne | H3: E - Periferico | I3: Montagna Materana
A4: 77002 | B4: 077002 | C4: Aliano | D4: Basilicata | E4: Matera | F4: 891 | G4: Aree interne | H4: F - Ultraperiferico | I4: Montagna Materana
A5: 77005 | B5: 077005 | C5: Cirigliano | D5: Basilicata | E5: Matera | F5: 297 | G5: Aree interne | H5: F - Ultraperiferico | I5: Montagna Materana
A6: 77007 | B6: 077007 | C6: Craco | D6: Basilicata | E6: Matera | F6: 651 | G6: Aree interne | H6: E - Periferico | I6: Montagna Materana
A7: 77010 | B7: 077010 | C7: Gorgoglione | D7: Basilicata | E7: Matera | F7: 888 | G7: Aree interne | H7: F - Ultraperiferico | I7: Montagna Materana
A8: 77019 | B8: 077019 | C8: Oliveto Lucano | D8: Basilicata | E8: Matera | F8: 374 | G8: Aree interne | H8: E - Periferico | I8: Montagna Materana
A9: 77026 | B9: 077026 | C9: San Mauro Forte | D9: Basilicata | E9: Matera | F9: 1310 | G9: Aree interne | H9: E - Periferico | I9: Montagna Materana
A10: 77027 | B10: 077027 | C10: Stigliano | D10: Basilicata | E10: Matera | F10: 3768 | G10: Aree interne | H10: F - Ultraperiferico | I10: Montagna Materana
A11: 80006 | B11: 080006 | C11: Bagaladi | D11: Calabria | E11: Reggio Calabria | F11: 956 | G11: Aree interne | H11: E - Periferico | I11: Grecanica
A12: 80011 | B12: 080011 | C12: Bova | D12: Calabria | E12: Reggio Calabria | F12: 402 | G12: Aree interne | H12: E - Periferico | I12: Grecanica
A13: 80015 | B13: 080015 | C13: Bruzzano Zeffirio | D13: Calabria | E13: Reggio Calabria | F13: 1054 | G13: Aree interne | H13: D - Intermedio | I13: Grecanica
A14: 80022 | B14: 080022 | C14: Cardeto | D14: Calabria | E14: Reggio Calabria | F14: 1372 | G14: Aree interne | H14: D - Intermedio | I14: Grecanica
... A424: 103001 | B424: 103001 | C424: Antrona Schieranco | D424: Piemonte | E424: Verbano-Cusio-Ossola | F424: 395 | G424: Aree interne | H424: D - Intermedio | I424: Val d'Ossola
A425: 103002 | B425: 103002 | C425: Anzola d'Ossola | D425: Piemonte | E425: Verbano-Cusio-Ossola | F425: 394 | G425: Centri | H425: C - Cintura | I425: Val d'Ossola
A426: 103007 | B426: 103007 | C426: Bannio Anzino | D426: Piemonte | E426: Verbano-Cusio-Ossola | F426: 471 | G426: Aree interne | H426: D - Intermedio | I426: Val d'Ossola
A427: 103012 | B427: 103012 | C427: Bognanco | D427: Piemonte | E427: Verbano-Cusio-Ossola | F427: 186 | G427: Centri | H427: C - Cintura | I427: Val d'Ossola
A428: 103078 | B428: 103078 | C428: Borgomezzavalle | D428: Piemonte | E428: Verbano-Cusio-Ossola | F428: 306 | G428: Centri | H428: C - Cintura | I428: Val d'Ossola
A429: 103014 | B429: 103014 | C429: Calasca-Castiglione | D429: Piemonte | E429: Verbano-Cusio-Ossola | F429: 567 | G429: Aree interne | H429: D - Intermedio | I429: Val d'Ossola
A430: 103021 | B430: 103021 | C430: Ceppo Morelli | D430: Piemonte | E430: Verbano-Cusio-Ossola | F430: 302 | G430: Aree interne | H430: D - Intermedio | I430: Val d'Ossola
A431: 103039 | B431: 103039 | C431: Macugnaga | D431: Piemonte | E431: Verbano-Cusio-Ossola | F431: 530 | G431: Aree interne | H431: E - Periferico | I431: Val d'Ossola
A432: 103047 | B432: 103047 | C432: Montescheno | D432: Piemonte | E432: Verbano-Cusio-Ossola | F432: 386 | G432: Centri | H432: C - Cintura | I432: Val d'Ossola
A433: 103070 | B433: 103070 | C433: Vanzone con San Carlo | D433: Piemonte | E433: Verbano-Cusio-Ossola | F433: 384 | G433: Aree interne | H433: D - Intermedio | I433: Val d'Ossola
A434: 4001 | B434: 004001 | C434: Acceglio | D434: Piemonte | E434: Cuneo | F434: 153 | G434: Aree interne | H434: F - Ultraperiferico | I434: Valli Grana e Maira
A435: 4038 | B435: 004038 | C435: Canosio | D435: Piemonte | E435: Cuneo | F435: 79 | G435: Aree interne | H435: E - Periferico | I435: Valli Grana e Maira
A436: 4044 | B436: 004044 | C436: Cartignano | D436: Piemonte | E436: Cuneo | F436: 171 | G436: Aree interne | H436: D - Intermedio | I436: Valli Grana e Maira
A437: 4053 | B437: 004053 | C437: Castelmagno | D437: Piemonte | E437: Cuneo | F437: 59 | G437: Aree interne | H437: D - Intermedio | I437: Valli Grana e Maira
A438: 4060 | B438: 004060 | C438: Celle di Macra | D438: Piemonte | E438: Cuneo | F438: 82 | G438: Aree interne | H438: E - Periferico | I438: Valli Grana e Maira
A439: 4082 | B439: 004082 | C439: Dronero | D439: Piemonte | E439: Cuneo | F439: 6981 | G439: Centri | H439: C - Cintura | I439: Valli Grana e Maira
A440: 4083 | B440: 004083 | C440: Elva | D440: Piemonte | E440: Cuneo | F440: 87 | G440: Aree interne | H440: E - Periferico | I440: Valli Grana e Maira
